BEGIN:VCALENDAR
VERSION:2.0
PRODID:-//Ocean City MD Property Management - ECPv5.12.3//NONSGML v1.0//EN
CALSCALE:GREGORIAN
METHOD:PUBLISH
X-WR-CALNAME:Ocean City MD Property Management
X-ORIGINAL-URL:https://ocmannproperties.com
X-WR-CALDESC:Events for Ocean City MD Property Management
BEGIN:VTIMEZONE
TZID:America/New_York
BEGIN:DAYLIGHT
TZOFFSETFROM:-0500
TZOFFSETTO:-0400
TZNAME:EDT
DTSTART:20170312T070000
END:DAYLIGHT
BEGIN:STANDARD
TZOFFSETFROM:-0400
TZOFFSETTO:-0500
TZNAME:EST
DTSTART:20171105T060000
END:STANDARD
END:VTIMEZONE
BEGIN:VEVENT
DTSTART;TZID=America/New_York:20170704T100000
DTEND;TZID=America/New_York:20170704T103000
DTSTAMP:20260425T083954
CREATED:20170704T091036Z
LAST-MODIFIED:20170704T091036Z
UID:2089181-1499162400-1499164200@ocmannproperties.com
SUMMARY:Beach Safety
DESCRIPTION:Learn about the semaphore flags\, fun things to do on the beach and how to stay safe from the experts. This is an excellent program for the family to enjoy!
URL:https://ocmannproperties.com/event/beach-safety/
END:VEVENT
BEGIN:VEVENT
DTSTART;TZID=America/New_York:20170704T100000
DTEND;TZID=America/New_York:20170704T103000
DTSTAMP:20260425T083954
CREATED:20170704T205818Z
LAST-MODIFIED:20170704T205818Z
UID:2089182-1499162400-1499164200@ocmannproperties.com
SUMMARY:Beach Safety
DESCRIPTION:Learn about the semaphore flags\, fun things to do on the beach and how to stay safe from the experts. This is an excellent program for the family to enjoy!
URL:https://ocmannproperties.com/event/beach-safety-2/
END:VEVENT
END:VCALENDAR