BEGIN:VCALENDAR
VERSION:2.0
PRODID:-//Ocean City MD Property Management - ECPv5.12.3//NONSGML v1.0//EN
CALSCALE:GREGORIAN
METHOD:PUBLISH
X-WR-CALNAME:Ocean City MD Property Management
X-ORIGINAL-URL:https://ocmannproperties.com
X-WR-CALDESC:Events for Ocean City MD Property Management
BEGIN:VTIMEZONE
TZID:America/New_York
BEGIN:DAYLIGHT
TZOFFSETFROM:-0500
TZOFFSETTO:-0400
TZNAME:EDT
DTSTART:20170312T070000
END:DAYLIGHT
BEGIN:STANDARD
TZOFFSETFROM:-0400
TZOFFSETTO:-0500
TZNAME:EST
DTSTART:20171105T060000
END:STANDARD
END:VTIMEZONE
BEGIN:VEVENT
DTSTART;TZID=America/New_York:20170711T090000
DTEND;TZID=America/New_York:20170711T110000
DTSTAMP:20260425T084051
CREATED:20170711T085821Z
LAST-MODIFIED:20170711T085821Z
UID:2089196-1499763600-1499770800@ocmannproperties.com
SUMMARY:Beach Clean Up
DESCRIPTION:Join us for a beach cleanup on 52nd Street on July 11th at 9am.
URL:https://ocmannproperties.com/event/beach-clean-up/
END:VEVENT
BEGIN:VEVENT
DTSTART;TZID=America/New_York:20170711T090000
DTEND;TZID=America/New_York:20170711T110000
DTSTAMP:20260425T084051
CREATED:20170711T205831Z
LAST-MODIFIED:20170711T205831Z
UID:2089197-1499763600-1499770800@ocmannproperties.com
SUMMARY:Beach Clean Up
DESCRIPTION:Join us for a beach cleanup on 52nd Street on July 11th at 9am.
URL:https://ocmannproperties.com/event/beach-clean-up-2/
END:VEVENT
END:VCALENDAR