BEGIN:VCALENDAR
VERSION:2.0
PRODID:-//Ocean City MD Property Management - ECPv5.12.3//NONSGML v1.0//EN
CALSCALE:GREGORIAN
METHOD:PUBLISH
X-WR-CALNAME:Ocean City MD Property Management
X-ORIGINAL-URL:https://ocmannproperties.com
X-WR-CALDESC:Events for Ocean City MD Property Management
BEGIN:VTIMEZONE
TZID:America/New_York
BEGIN:DAYLIGHT
TZOFFSETFROM:-0500
TZOFFSETTO:-0400
TZNAME:EDT
DTSTART:20170312T070000
END:DAYLIGHT
BEGIN:STANDARD
TZOFFSETFROM:-0400
TZOFFSETTO:-0500
TZNAME:EST
DTSTART:20171105T060000
END:STANDARD
END:VTIMEZONE
BEGIN:VEVENT
DTSTART;VALUE=DATE:20170722
DTEND;VALUE=DATE:20170723
DTSTAMP:20260425T083946
CREATED:20170722T090057Z
LAST-MODIFIED:20170722T090057Z
UID:2089218-1500681600-1500767999@ocmannproperties.com
SUMMARY:Annual Kid's Classic Fishing Tourmament
DESCRIPTION: \n13th Annual Kids’ classic to benefit the Wish-A-Fish Foundation\nRegistration: July 21st\, 6:30pm\nFishing Days: (1 or 2 of 2) July 22 & 23 \nWeigh Ins: July 22 3:00-6:30 pm.\, July 23 3:00-6:00 pm at  Sunset Marina \nSunday Carnival & Awards: July 23\, 5:00-8:00 pm.  \n\n\nEvery Angler receives an award!\n \nFor more information\, visit www.ocmarlinclub.com
URL:https://ocmannproperties.com/event/annual-kids-classic-fishing-tourmament/
END:VEVENT
BEGIN:VEVENT
DTSTART;VALUE=DATE:20170722
DTEND;VALUE=DATE:20170723
DTSTAMP:20260425T083946
CREATED:20170722T210047Z
LAST-MODIFIED:20170722T210047Z
UID:2089219-1500681600-1500767999@ocmannproperties.com
SUMMARY:Annual Kid's Classic Fishing Tourmament
DESCRIPTION: \n13th Annual Kids’ classic to benefit the Wish-A-Fish Foundation\nRegistration: July 21st\, 6:30pm\nFishing Days: (1 or 2 of 2) July 22 & 23 \nWeigh Ins: July 22 3:00-6:30 pm.\, July 23 3:00-6:00 pm at  Sunset Marina \nSunday Carnival & Awards: July 23\, 5:00-8:00 pm.  \n\n\nEvery Angler receives an award!\n \nFor more information\, visit www.ocmarlinclub.com
URL:https://ocmannproperties.com/event/annual-kids-classic-fishing-tourmament-2/
END:VEVENT
END:VCALENDAR