BEGIN:VCALENDAR
VERSION:2.0
PRODID:-//Ocean City MD Property Management - ECPv5.12.3//NONSGML v1.0//EN
CALSCALE:GREGORIAN
METHOD:PUBLISH
X-WR-CALNAME:Ocean City MD Property Management
X-ORIGINAL-URL:https://ocmannproperties.com
X-WR-CALDESC:Events for Ocean City MD Property Management
BEGIN:VTIMEZONE
TZID:America/New_York
BEGIN:DAYLIGHT
TZOFFSETFROM:-0500
TZOFFSETTO:-0400
TZNAME:EDT
DTSTART:20170312T070000
END:DAYLIGHT
BEGIN:STANDARD
TZOFFSETFROM:-0400
TZOFFSETTO:-0500
TZNAME:EST
DTSTART:20171105T060000
END:STANDARD
END:VTIMEZONE
BEGIN:VEVENT
DTSTART;VALUE=DATE:20170725
DTEND;VALUE=DATE:20170726
DTSTAMP:20260425T084051
CREATED:20170725T090036Z
LAST-MODIFIED:20170725T090036Z
UID:2089224-1500940800-1501027199@ocmannproperties.com
SUMMARY:Christmas in July at Fish Tales
DESCRIPTION:So you wanted Christmas early… here it is! Come join us as we welcome Santa on his jet ski loaded with gifts for the little ones. Bring an unwrapped toy for Toys For Tots.
URL:https://ocmannproperties.com/event/christmas-in-july-at-fish-tales/
END:VEVENT
BEGIN:VEVENT
DTSTART;VALUE=DATE:20170725
DTEND;VALUE=DATE:20170726
DTSTAMP:20260425T084051
CREATED:20170725T210623Z
LAST-MODIFIED:20170725T210623Z
UID:2089225-1500940800-1501027199@ocmannproperties.com
SUMMARY:Christmas in July at Fish Tales
DESCRIPTION:So you wanted Christmas early… here it is! Come join us as we welcome Santa on his jet ski loaded with gifts for the little ones. Bring an unwrapped toy for Toys For Tots.
URL:https://ocmannproperties.com/event/christmas-in-july-at-fish-tales-2/
END:VEVENT
END:VCALENDAR