BEGIN:VCALENDAR
VERSION:2.0
PRODID:-//Ocean City MD Property Management - ECPv5.12.3//NONSGML v1.0//EN
CALSCALE:GREGORIAN
METHOD:PUBLISH
X-WR-CALNAME:Ocean City MD Property Management
X-ORIGINAL-URL:https://ocmannproperties.com
X-WR-CALDESC:Events for Ocean City MD Property Management
BEGIN:VTIMEZONE
TZID:America/New_York
BEGIN:DAYLIGHT
TZOFFSETFROM:-0500
TZOFFSETTO:-0400
TZNAME:EDT
DTSTART:20170312T070000
END:DAYLIGHT
BEGIN:STANDARD
TZOFFSETFROM:-0400
TZOFFSETTO:-0500
TZNAME:EST
DTSTART:20171105T060000
END:STANDARD
END:VTIMEZONE
BEGIN:VEVENT
DTSTART;TZID=America/New_York:20170802T100000
DTEND;TZID=America/New_York:20170802T103000
DTSTAMP:20260425T084110
CREATED:20170802T085826Z
LAST-MODIFIED:20170802T085826Z
UID:2089240-1501668000-1501669800@ocmannproperties.com
SUMMARY:Maritime Knot Tying Workshop
DESCRIPTION:Coast Guard Auxiliary Members instruct attendees on how to tie many different and useful knots from a bowline to how to correctly secure a cleat. This is a great program for families!
URL:https://ocmannproperties.com/event/maritime-knot-tying-workshop-7/
END:VEVENT
BEGIN:VEVENT
DTSTART;TZID=America/New_York:20170802T100000
DTEND;TZID=America/New_York:20170802T103000
DTSTAMP:20260425T084110
CREATED:20170802T205959Z
LAST-MODIFIED:20170802T205959Z
UID:2089241-1501668000-1501669800@ocmannproperties.com
SUMMARY:Maritime Knot Tying Workshop
DESCRIPTION:Coast Guard Auxiliary Members instruct attendees on how to tie many different and useful knots from a bowline to how to correctly secure a cleat. This is a great program for families!
URL:https://ocmannproperties.com/event/maritime-knot-tying-workshop-8/
END:VEVENT
END:VCALENDAR