BEGIN:VCALENDAR
VERSION:2.0
PRODID:-//Ocean City MD Property Management - ECPv5.12.3//NONSGML v1.0//EN
CALSCALE:GREGORIAN
METHOD:PUBLISH
X-WR-CALNAME:Ocean City MD Property Management
X-ORIGINAL-URL:https://ocmannproperties.com
X-WR-CALDESC:Events for Ocean City MD Property Management
BEGIN:VTIMEZONE
TZID:America/New_York
BEGIN:DAYLIGHT
TZOFFSETFROM:-0500
TZOFFSETTO:-0400
TZNAME:EDT
DTSTART:20170312T070000
END:DAYLIGHT
BEGIN:STANDARD
TZOFFSETFROM:-0400
TZOFFSETTO:-0500
TZNAME:EST
DTSTART:20171105T060000
END:STANDARD
END:VTIMEZONE
BEGIN:VEVENT
DTSTART;VALUE=DATE:20170804
DTEND;VALUE=DATE:20170805
DTSTAMP:20260425T083954
CREATED:20170804T090308Z
LAST-MODIFIED:20170804T090308Z
UID:2089244-1501804800-1501891199@ocmannproperties.com
SUMMARY:Heels & Reels | Annual OCMC Ladies Fishing Tournament
DESCRIPTION:Heels and Reels Tournament\n \nChairmen: Franky Pettolina & Amanda Shick\nRegistration: Thursday\, August 3\, 6:00 pm \nFishing Days: (1 of 2) August 4 & 5  \nWeigh-Ins: August 4 & 5\, 5:30-7:30 pm;  Atlantic Tackle\nAwards Banquet: August 5\, 6:30-9:00 pm
URL:https://ocmannproperties.com/event/heels-reels-annual-ocmc-ladies-fishing-tournament/
END:VEVENT
BEGIN:VEVENT
DTSTART;VALUE=DATE:20170804
DTEND;VALUE=DATE:20170805
DTSTAMP:20260425T083954
CREATED:20170804T205836Z
LAST-MODIFIED:20170804T205836Z
UID:2089245-1501804800-1501891199@ocmannproperties.com
SUMMARY:Heels & Reels | Annual OCMC Ladies Fishing Tournament
DESCRIPTION:Heels and Reels Tournament\n \nChairmen: Franky Pettolina & Amanda Shick\nRegistration: Thursday\, August 3\, 6:00 pm \nFishing Days: (1 of 2) August 4 & 5  \nWeigh-Ins: August 4 & 5\, 5:30-7:30 pm;  Atlantic Tackle\nAwards Banquet: August 5\, 6:30-9:00 pm
URL:https://ocmannproperties.com/event/heels-reels-annual-ocmc-ladies-fishing-tournament-2/
END:VEVENT
END:VCALENDAR