BEGIN:VCALENDAR
VERSION:2.0
PRODID:-//Ocean City MD Property Management - ECPv5.12.3//NONSGML v1.0//EN
CALSCALE:GREGORIAN
METHOD:PUBLISH
X-WR-CALNAME:Ocean City MD Property Management
X-ORIGINAL-URL:https://ocmannproperties.com
X-WR-CALDESC:Events for Ocean City MD Property Management
BEGIN:VTIMEZONE
TZID:America/New_York
BEGIN:DAYLIGHT
TZOFFSETFROM:-0500
TZOFFSETTO:-0400
TZNAME:EDT
DTSTART:20170312T070000
END:DAYLIGHT
BEGIN:STANDARD
TZOFFSETFROM:-0400
TZOFFSETTO:-0500
TZNAME:EST
DTSTART:20171105T060000
END:STANDARD
END:VTIMEZONE
BEGIN:VEVENT
DTSTART;TZID=America/New_York:20171130T160000
DTEND;TZID=America/New_York:20171130T190000
DTSTAMP:20260424T231218
CREATED:20171130T090238Z
LAST-MODIFIED:20171130T090238Z
UID:2089481-1512057600-1512068400@ocmannproperties.com
SUMMARY:Bryan Russo
DESCRIPTION:Bryan Russo sounds like the blues stomping on pop melodies. He’s got a soulful voice\, and lyrics that bite.
URL:https://ocmannproperties.com/event/bryan-russo-7/
END:VEVENT
BEGIN:VEVENT
DTSTART;TZID=America/New_York:20171130T160000
DTEND;TZID=America/New_York:20171130T190000
DTSTAMP:20260424T231218
CREATED:20171130T205857Z
LAST-MODIFIED:20171130T205857Z
UID:2089482-1512057600-1512068400@ocmannproperties.com
SUMMARY:Bryan Russo
DESCRIPTION:Bryan Russo sounds like the blues stomping on pop melodies. He’s got a soulful voice\, and lyrics that bite.
URL:https://ocmannproperties.com/event/bryan-russo-8/
END:VEVENT
END:VCALENDAR