BEGIN:VCALENDAR
VERSION:2.0
PRODID:-//Ocean City MD Property Management - ECPv5.12.3//NONSGML v1.0//EN
CALSCALE:GREGORIAN
METHOD:PUBLISH
X-WR-CALNAME:Ocean City MD Property Management
X-ORIGINAL-URL:https://ocmannproperties.com
X-WR-CALDESC:Events for Ocean City MD Property Management
BEGIN:VTIMEZONE
TZID:America/New_York
BEGIN:DAYLIGHT
TZOFFSETFROM:-0500
TZOFFSETTO:-0400
TZNAME:EDT
DTSTART:20170312T070000
END:DAYLIGHT
BEGIN:STANDARD
TZOFFSETFROM:-0400
TZOFFSETTO:-0500
TZNAME:EST
DTSTART:20171105T060000
END:STANDARD
END:VTIMEZONE
BEGIN:VEVENT
DTSTART;VALUE=DATE:20171209
DTEND;VALUE=DATE:20171210
DTSTAMP:20260424T231309
CREATED:20171209T090223Z
LAST-MODIFIED:20171209T090223Z
UID:2089499-1512777600-1512863999@ocmannproperties.com
SUMMARY:Annual Ocean City Marlin Club Rockfish Tournament
DESCRIPTION:5th Annual OCMC Rockfish Tournament \n(Note: You do not need to be a member to fish this tournament)\n \nRegistration:\nRegistration is on December 8\, 2017 at 6:00pm \n \nFishing Days:\nFish 5 of 9; December 9 – 17\n Weigh Ins:\nDecember 9 – 17 \nWeigh-Ins daily from 3:00-5:00 pm at Atlantic Tackle\n \nAwards Banquet on December 17\, 5-730pm\n \n 
URL:https://ocmannproperties.com/event/annual-ocean-city-marlin-club-rockfish-tournament/
END:VEVENT
BEGIN:VEVENT
DTSTART;VALUE=DATE:20171209
DTEND;VALUE=DATE:20171210
DTSTAMP:20260424T231309
CREATED:20171209T210338Z
LAST-MODIFIED:20171209T210338Z
UID:2089500-1512777600-1512863999@ocmannproperties.com
SUMMARY:Annual Ocean City Marlin Club Rockfish Tournament
DESCRIPTION:5th Annual OCMC Rockfish Tournament \n(Note: You do not need to be a member to fish this tournament)\n \nRegistration:\nRegistration is on December 8\, 2017 at 6:00pm \n \nFishing Days:\nFish 5 of 9; December 9 – 17\n Weigh Ins:\nDecember 9 – 17 \nWeigh-Ins daily from 3:00-5:00 pm at Atlantic Tackle\n \nAwards Banquet on December 17\, 5-730pm\n \n 
URL:https://ocmannproperties.com/event/annual-ocean-city-marlin-club-rockfish-tournament-2/
END:VEVENT
END:VCALENDAR