BEGIN:VCALENDAR
VERSION:2.0
PRODID:-//Ocean City MD Property Management - ECPv5.12.3//NONSGML v1.0//EN
CALSCALE:GREGORIAN
METHOD:PUBLISH
X-WR-CALNAME:Ocean City MD Property Management
X-ORIGINAL-URL:https://ocmannproperties.com
X-WR-CALDESC:Events for Ocean City MD Property Management
BEGIN:VTIMEZONE
TZID:America/New_York
BEGIN:DAYLIGHT
TZOFFSETFROM:-0500
TZOFFSETTO:-0400
TZNAME:EDT
DTSTART:20170312T070000
END:DAYLIGHT
BEGIN:STANDARD
TZOFFSETFROM:-0400
TZOFFSETTO:-0500
TZNAME:EST
DTSTART:20171105T060000
END:STANDARD
END:VTIMEZONE
BEGIN:VEVENT
DTSTART;TZID=America/New_York:20171227T140000
DTEND;TZID=America/New_York:20171227T170000
DTSTAMP:20260424T231311
CREATED:20171227T090253Z
LAST-MODIFIED:20171227T090253Z
UID:2089536-1514383200-1514394000@ocmannproperties.com
SUMMARY:Bobby Burns
DESCRIPTION:Bobby Burns LIVE 2-5 pm!
URL:https://ocmannproperties.com/event/bobby-burns/
END:VEVENT
BEGIN:VEVENT
DTSTART;TZID=America/New_York:20171227T140000
DTEND;TZID=America/New_York:20171227T170000
DTSTAMP:20260424T231311
CREATED:20171227T210157Z
LAST-MODIFIED:20171227T210157Z
UID:2089537-1514383200-1514394000@ocmannproperties.com
SUMMARY:Bobby Burns
DESCRIPTION:Bobby Burns LIVE 2-5 pm!
URL:https://ocmannproperties.com/event/bobby-burns-2/
END:VEVENT
END:VCALENDAR