BEGIN:VCALENDAR
VERSION:2.0
PRODID:-//Ocean City MD Property Management - ECPv5.12.3//NONSGML v1.0//EN
CALSCALE:GREGORIAN
METHOD:PUBLISH
X-WR-CALNAME:Ocean City MD Property Management
X-ORIGINAL-URL:https://ocmannproperties.com
X-WR-CALDESC:Events for Ocean City MD Property Management
BEGIN:VTIMEZONE
TZID:America/New_York
BEGIN:DAYLIGHT
TZOFFSETFROM:-0500
TZOFFSETTO:-0400
TZNAME:EDT
DTSTART:20180311T070000
END:DAYLIGHT
BEGIN:STANDARD
TZOFFSETFROM:-0400
TZOFFSETTO:-0500
TZNAME:EST
DTSTART:20181104T060000
END:STANDARD
END:VTIMEZONE
BEGIN:VEVENT
DTSTART;TZID=America/New_York:20180117T080000
DTEND;TZID=America/New_York:20180117T090000
DTSTAMP:20260424T231218
CREATED:20180117T090005Z
LAST-MODIFIED:20180117T090005Z
UID:2089578-1516176000-1516179600@ocmannproperties.com
SUMMARY:Aerobics\, Step It Up
DESCRIPTION:Look better and feel better as you step and tone\nyour way to better muscle fitness and cardiovascular endurance. Designed for\nbeginner and experienced steppers\, all ages will enjoy this challenging\nfat-burning step aerobics routine. Program includes the use of hand weights and\nends with abdominal work. Put a smile on your face first thing in the morning\,\nmeet friendly people and come prepared to work hard.  Please bring your own hand weights. Steps are provided. \n\nCertified Instructor: Tammy Johnson \n\nFee:\nDrop-In $5\nOC Residents $68\nNon-OC Residents $82\n\nDays: Mondays\, Wednesdays and Fridays
URL:https://ocmannproperties.com/event/aerobics-step-it-up-30/
END:VEVENT
BEGIN:VEVENT
DTSTART;TZID=America/New_York:20180117T080000
DTEND;TZID=America/New_York:20180117T090000
DTSTAMP:20260424T231218
CREATED:20180117T205922Z
LAST-MODIFIED:20180117T205922Z
UID:2089579-1516176000-1516179600@ocmannproperties.com
SUMMARY:Aerobics\, Step It Up
DESCRIPTION:Look better and feel better as you step and tone\nyour way to better muscle fitness and cardiovascular endurance. Designed for\nbeginner and experienced steppers\, all ages will enjoy this challenging\nfat-burning step aerobics routine. Program includes the use of hand weights and\nends with abdominal work. Put a smile on your face first thing in the morning\,\nmeet friendly people and come prepared to work hard.  Please bring your own hand weights. Steps are provided. \n\nCertified Instructor: Tammy Johnson \n\nFee:\nDrop-In $5\nOC Residents $68\nNon-OC Residents $82\n\nDays: Mondays\, Wednesdays and Fridays
URL:https://ocmannproperties.com/event/aerobics-step-it-up-31/
END:VEVENT
END:VCALENDAR