BEGIN:VCALENDAR
VERSION:2.0
PRODID:-//Ocean City MD Property Management - ECPv5.12.3//NONSGML v1.0//EN
CALSCALE:GREGORIAN
METHOD:PUBLISH
X-WR-CALNAME:Ocean City MD Property Management
X-ORIGINAL-URL:https://ocmannproperties.com
X-WR-CALDESC:Events for Ocean City MD Property Management
BEGIN:VTIMEZONE
TZID:America/New_York
BEGIN:DAYLIGHT
TZOFFSETFROM:-0500
TZOFFSETTO:-0400
TZNAME:EDT
DTSTART:20180311T070000
END:DAYLIGHT
BEGIN:STANDARD
TZOFFSETFROM:-0400
TZOFFSETTO:-0500
TZNAME:EST
DTSTART:20181104T060000
END:STANDARD
END:VTIMEZONE
BEGIN:VEVENT
DTSTART;TZID=America/New_York:20180203T100000
DTEND;TZID=America/New_York:20180203T160000
DTSTAMP:20260424T193756
CREATED:20180203T090415Z
LAST-MODIFIED:20180203T090415Z
UID:2089613-1517652000-1517673600@ocmannproperties.com
SUMMARY:Horse & Carriage Rides Along the Boardwalk
DESCRIPTION:Enjoy a horse & carriage ride along the boardwalk.  \nThe rides starts on the boardwalk near Thrasher’s French Fries and will go around the pier and up the boardwalk to 4th street and back.  \n$10 per person. Kids 3 years and under ride free.  \nTo make reservations and for more information\, call Randy Davis at 443-783-1409.
URL:https://ocmannproperties.com/event/horse-carriage-rides-along-the-boardwalk-19/
END:VEVENT
BEGIN:VEVENT
DTSTART;TZID=America/New_York:20180203T100000
DTEND;TZID=America/New_York:20180203T160000
DTSTAMP:20260424T193756
CREATED:20180203T205833Z
LAST-MODIFIED:20180203T205833Z
UID:2089614-1517652000-1517673600@ocmannproperties.com
SUMMARY:Horse & Carriage Rides Along the Boardwalk
DESCRIPTION:Enjoy a horse & carriage ride along the boardwalk.  \nThe rides starts on the boardwalk near Thrasher’s French Fries and will go around the pier and up the boardwalk to 4th street and back.  \n$10 per person. Kids 3 years and under ride free.  \nTo make reservations and for more information\, call Randy Davis at 443-783-1409.
URL:https://ocmannproperties.com/event/horse-carriage-rides-along-the-boardwalk-20/
END:VEVENT
END:VCALENDAR