BEGIN:VCALENDAR
VERSION:2.0
PRODID:-//Ocean City MD Property Management - ECPv5.12.3//NONSGML v1.0//EN
CALSCALE:GREGORIAN
METHOD:PUBLISH
X-WR-CALNAME:Ocean City MD Property Management
X-ORIGINAL-URL:https://ocmannproperties.com
X-WR-CALDESC:Events for Ocean City MD Property Management
BEGIN:VTIMEZONE
TZID:America/New_York
BEGIN:DAYLIGHT
TZOFFSETFROM:-0500
TZOFFSETTO:-0400
TZNAME:EDT
DTSTART:20180311T070000
END:DAYLIGHT
BEGIN:STANDARD
TZOFFSETFROM:-0400
TZOFFSETTO:-0500
TZNAME:EST
DTSTART:20181104T060000
END:STANDARD
END:VTIMEZONE
BEGIN:VEVENT
DTSTART;TZID=America/New_York:20180227T190000
DTEND;TZID=America/New_York:20180227T200000
DTSTAMP:20260424T175151
CREATED:20180227T085910Z
LAST-MODIFIED:20180227T085910Z
UID:2089662-1519758000-1519761600@ocmannproperties.com
SUMMARY:Team Trivia Night with DJ Ted
DESCRIPTION:Join us for Trivia Night with DJ Ted beginning at 7pm\n \n \n 
URL:https://ocmannproperties.com/event/team-trivia-night-with-dj-ted-5/
END:VEVENT
BEGIN:VEVENT
DTSTART;TZID=America/New_York:20180227T190000
DTEND;TZID=America/New_York:20180227T200000
DTSTAMP:20260424T175151
CREATED:20180227T205852Z
LAST-MODIFIED:20180227T205852Z
UID:2089663-1519758000-1519761600@ocmannproperties.com
SUMMARY:Team Trivia Night with DJ Ted
DESCRIPTION:Join us for Trivia Night with DJ Ted beginning at 7pm\n \n \n 
URL:https://ocmannproperties.com/event/team-trivia-night-with-dj-ted-6/
END:VEVENT
END:VCALENDAR