BEGIN:VCALENDAR
VERSION:2.0
PRODID:-//Ocean City MD Property Management - ECPv5.12.3//NONSGML v1.0//EN
CALSCALE:GREGORIAN
METHOD:PUBLISH
X-WR-CALNAME:Ocean City MD Property Management
X-ORIGINAL-URL:https://ocmannproperties.com
X-WR-CALDESC:Events for Ocean City MD Property Management
BEGIN:VTIMEZONE
TZID:America/New_York
BEGIN:DAYLIGHT
TZOFFSETFROM:-0500
TZOFFSETTO:-0400
TZNAME:EDT
DTSTART:20180311T070000
END:DAYLIGHT
BEGIN:STANDARD
TZOFFSETFROM:-0400
TZOFFSETTO:-0500
TZNAME:EST
DTSTART:20181104T060000
END:STANDARD
END:VTIMEZONE
BEGIN:VEVENT
DTSTART;TZID=America/New_York:20180315T100000
DTEND;TZID=America/New_York:20180315T130000
DTSTAMP:20260424T193037
CREATED:20180315T090937Z
LAST-MODIFIED:20180315T090937Z
UID:2089691-1521108000-1521118800@ocmannproperties.com
SUMMARY:Local Colors\, Watercolors With Geri Gaskill
DESCRIPTION:Instructor Gerilyn Gaskill\n$20 for members\, $25 for non members\n \nWatch watercolor demonstrations and try your hand as you paint along with Geri! Have fun while you learn to capture the “local color” in watercolors.\n \nAll levels welcome. Bring your own supplies or rent a complete watercolor kit for $10
URL:https://ocmannproperties.com/event/local-colors-watercolors-with-geri-gaskill-3/
END:VEVENT
BEGIN:VEVENT
DTSTART;TZID=America/New_York:20180315T100000
DTEND;TZID=America/New_York:20180315T130000
DTSTAMP:20260424T193037
CREATED:20180315T205843Z
LAST-MODIFIED:20180315T205843Z
UID:2089692-1521108000-1521118800@ocmannproperties.com
SUMMARY:Local Colors\, Watercolors With Geri Gaskill
DESCRIPTION:Instructor Gerilyn Gaskill\n$20 for members\, $25 for non members\n \nWatch watercolor demonstrations and try your hand as you paint along with Geri! Have fun while you learn to capture the “local color” in watercolors.\n \nAll levels welcome. Bring your own supplies or rent a complete watercolor kit for $10
URL:https://ocmannproperties.com/event/local-colors-watercolors-with-geri-gaskill-4/
END:VEVENT
END:VCALENDAR