BEGIN:VCALENDAR
VERSION:2.0
PRODID:-//Ocean City MD Property Management - ECPv5.12.3//NONSGML v1.0//EN
CALSCALE:GREGORIAN
METHOD:PUBLISH
X-WR-CALNAME:Ocean City MD Property Management
X-ORIGINAL-URL:https://ocmannproperties.com
X-WR-CALDESC:Events for Ocean City MD Property Management
BEGIN:VTIMEZONE
TZID:America/New_York
BEGIN:DAYLIGHT
TZOFFSETFROM:-0500
TZOFFSETTO:-0400
TZNAME:EDT
DTSTART:20180311T070000
END:DAYLIGHT
BEGIN:STANDARD
TZOFFSETFROM:-0400
TZOFFSETTO:-0500
TZNAME:EST
DTSTART:20181104T060000
END:STANDARD
END:VTIMEZONE
BEGIN:VEVENT
DTSTART;TZID=America/New_York:20180325T090000
DTEND;TZID=America/New_York:20180325T120000
DTSTAMP:20260424T175257
CREATED:20180325T085836Z
LAST-MODIFIED:20180325T085836Z
UID:2089710-1521968400-1521979200@ocmannproperties.com
SUMMARY:Algonquest Fat Tire Bike Festival
DESCRIPTION:Enjoy the Algonquin Trail | Fat Tire Bicycle Fest  \nSchedule of Events:Friday and Saturday\n$20 single day pass\n$50 – 3 day pass\n\nFriday Night Ride 7pm – 9pm\nSaturday Cross Country Race 9am – 2pm\n \n~ New Geocaches \n~ Wheel House Demo Bikes\, Fat Bike Demos by Beach 2 Bay Bicycling \n~ Food and Beverage \n \n~ BMX & Skateboarding Area Friday and Saturday by Get Ramped\n\nSunday 9am – 12pm\nBeach and Boardwalk Bike Ride; kick off ride Worcester County Bicycle Safety Coaltion\n$10 donation per rider; Groups over 3 – $5 per rider \nRegister Online at Algonquest.com \nPresented By\, ESIMBA | Eastern Shore International Mountain Bicycling Association \n\n 
URL:https://ocmannproperties.com/event/algonquest-fat-tire-bike-festival/
END:VEVENT
END:VCALENDAR