BEGIN:VCALENDAR
VERSION:2.0
PRODID:-//Ocean City MD Property Management - ECPv5.12.3//NONSGML v1.0//EN
CALSCALE:GREGORIAN
METHOD:PUBLISH
X-WR-CALNAME:Ocean City MD Property Management
X-ORIGINAL-URL:https://ocmannproperties.com
X-WR-CALDESC:Events for Ocean City MD Property Management
BEGIN:VTIMEZONE
TZID:America/New_York
BEGIN:DAYLIGHT
TZOFFSETFROM:-0500
TZOFFSETTO:-0400
TZNAME:EDT
DTSTART:20180311T070000
END:DAYLIGHT
BEGIN:STANDARD
TZOFFSETFROM:-0400
TZOFFSETTO:-0500
TZNAME:EST
DTSTART:20181104T060000
END:STANDARD
END:VTIMEZONE
BEGIN:VEVENT
DTSTART;TZID=America/New_York:20180410T093000
DTEND;TZID=America/New_York:20180410T120000
DTSTAMP:20260424T160242
CREATED:20180410T085857Z
LAST-MODIFIED:20180410T085857Z
UID:2089742-1523352600-1523361600@ocmannproperties.com
SUMMARY:Goache Painting Class with Joanne K. Guilfoil - Gardens
DESCRIPTION:Gouache – sometimes referred to as opaque watercolor\, starts out similarly to watercolor. The pigment ratio in gouache is usually much greater than in watercolor and solid white pigment are incorporated. These factors give gouache a much heavier texture and higher opacity than watercolor alone. You will learn different techniques for Gouache and how to work the material to get the wanted effects.\n \nBring what supplies you have\, or rent a kit for just $10.  All levels are welcome. \n \nEach day will be a different theme. Today we will paint Garden Flowers.\n \nPlease register by 4/9/2018\n \nCost: $30 
URL:https://ocmannproperties.com/event/goache-painting-class-with-joanne-k-guilfoil-gardens/
END:VEVENT
END:VCALENDAR