BEGIN:VCALENDAR
VERSION:2.0
PRODID:-//Ocean City MD Property Management - ECPv5.12.3//NONSGML v1.0//EN
CALSCALE:GREGORIAN
METHOD:PUBLISH
X-WR-CALNAME:Ocean City MD Property Management
X-ORIGINAL-URL:https://ocmannproperties.com
X-WR-CALDESC:Events for Ocean City MD Property Management
BEGIN:VTIMEZONE
TZID:America/New_York
BEGIN:DAYLIGHT
TZOFFSETFROM:-0500
TZOFFSETTO:-0400
TZNAME:EDT
DTSTART:20180311T070000
END:DAYLIGHT
BEGIN:STANDARD
TZOFFSETFROM:-0400
TZOFFSETTO:-0500
TZNAME:EST
DTSTART:20181104T060000
END:STANDARD
END:VTIMEZONE
BEGIN:VEVENT
DTSTART;TZID=America/New_York:20180412T163000
DTEND;TZID=America/New_York:20180412T173000
DTSTAMP:20260424T160143
CREATED:20180412T085831Z
LAST-MODIFIED:20180412T085831Z
UID:2089746-1523550600-1523554200@ocmannproperties.com
SUMMARY:Kids Afternoon Pottery Workshop
DESCRIPTION:Kids love to play with clay and express themselves with a variety of projects as they build hand-eye coordination and have a great time!  All materials\, clay\, glazing and firing included in cost.  All ages are welcome\, but children under 7 must be accompanied by an adult\n \nPer Session: $20 members\, $25 non-members\n6 Sessions: $90 members\, $120 non-members\n \nAdvanced registration is required to guarantee your spot. Call the Art League at 410-524-9433
URL:https://ocmannproperties.com/event/kids-afternoon-pottery-workshop-7/
END:VEVENT
END:VCALENDAR