BEGIN:VCALENDAR
VERSION:2.0
PRODID:-//Ocean City MD Property Management - ECPv5.12.3//NONSGML v1.0//EN
CALSCALE:GREGORIAN
METHOD:PUBLISH
X-WR-CALNAME:Ocean City MD Property Management
X-ORIGINAL-URL:https://ocmannproperties.com
X-WR-CALDESC:Events for Ocean City MD Property Management
BEGIN:VTIMEZONE
TZID:America/New_York
BEGIN:DAYLIGHT
TZOFFSETFROM:-0500
TZOFFSETTO:-0400
TZNAME:EDT
DTSTART:20180311T070000
END:DAYLIGHT
BEGIN:STANDARD
TZOFFSETFROM:-0400
TZOFFSETTO:-0500
TZNAME:EST
DTSTART:20181104T060000
END:STANDARD
END:VTIMEZONE
BEGIN:VEVENT
DTSTART;TZID=America/New_York:20180429T210000
DTEND;TZID=America/New_York:20180429T210000
DTSTAMP:20260424T155216
CREATED:20180429T090049Z
LAST-MODIFIED:20180429T090049Z
UID:2089782-1525035600-1525035600@ocmannproperties.com
SUMMARY:Lunasea Full Moon Glow Party
DESCRIPTION:Our famous Lunasea Full Moon Glow Party\n \nWhen the lights go down\, the black lights go up and the party gets crazy.  Wear something bright and glow under more than 2000 black lights\, drink from glow-in dark cups and get free glow sticks and necklaces! \n \n \n \n\n\n \n\n\n\n\n 
URL:https://ocmannproperties.com/event/lunasea-full-moon-glow-party/
END:VEVENT
END:VCALENDAR