BEGIN:VCALENDAR
VERSION:2.0
PRODID:-//Ocean City MD Property Management - ECPv5.12.3//NONSGML v1.0//EN
CALSCALE:GREGORIAN
METHOD:PUBLISH
X-WR-CALNAME:Ocean City MD Property Management
X-ORIGINAL-URL:https://ocmannproperties.com
X-WR-CALDESC:Events for Ocean City MD Property Management
BEGIN:VTIMEZONE
TZID:America/New_York
BEGIN:DAYLIGHT
TZOFFSETFROM:-0500
TZOFFSETTO:-0400
TZNAME:EDT
DTSTART:20180311T070000
END:DAYLIGHT
BEGIN:STANDARD
TZOFFSETFROM:-0400
TZOFFSETTO:-0500
TZNAME:EST
DTSTART:20181104T060000
END:STANDARD
END:VTIMEZONE
BEGIN:VEVENT
DTSTART;TZID=America/New_York:20180603T170000
DTEND;TZID=America/New_York:20180603T210000
DTSTAMP:20260424T122530
CREATED:20180603T090002Z
LAST-MODIFIED:20180603T090002Z
UID:2093440-1528045200-1528059600@ocmannproperties.com
SUMMARY:Joe Mama
DESCRIPTION:Come check out Joe Mama\, live on stage and enjoy a great dinner with a view! 
URL:https://ocmannproperties.com/event/joe-mama-3/
END:VEVENT
BEGIN:VEVENT
DTSTART;TZID=America/New_York:20180603T170000
DTEND;TZID=America/New_York:20180603T210000
DTSTAMP:20260424T122530
CREATED:20180603T210348Z
LAST-MODIFIED:20180603T210348Z
UID:2093441-1528045200-1528059600@ocmannproperties.com
SUMMARY:Joe Mama
DESCRIPTION:Come check out Joe Mama\, live on stage and enjoy a great dinner with a view! 
URL:https://ocmannproperties.com/event/joe-mama-4/
END:VEVENT
END:VCALENDAR