BEGIN:VCALENDAR
VERSION:2.0
PRODID:-//Ocean City MD Property Management - ECPv5.12.3//NONSGML v1.0//EN
CALSCALE:GREGORIAN
METHOD:PUBLISH
X-WR-CALNAME:Ocean City MD Property Management
X-ORIGINAL-URL:https://ocmannproperties.com
X-WR-CALDESC:Events for Ocean City MD Property Management
BEGIN:VTIMEZONE
TZID:America/New_York
BEGIN:DAYLIGHT
TZOFFSETFROM:-0500
TZOFFSETTO:-0400
TZNAME:EDT
DTSTART:20180311T070000
END:DAYLIGHT
BEGIN:STANDARD
TZOFFSETFROM:-0400
TZOFFSETTO:-0500
TZNAME:EST
DTSTART:20181104T060000
END:STANDARD
END:VTIMEZONE
BEGIN:VEVENT
DTSTART;TZID=America/New_York:20180614T160000
DTEND;TZID=America/New_York:20180614T200000
DTSTAMP:20260424T122530
CREATED:20180614T205821Z
LAST-MODIFIED:20180614T205821Z
UID:2093463-1528992000-1529006400@ocmannproperties.com
SUMMARY:Kevin Poole Live on Coconuts Patio
DESCRIPTION:Kevin Poole is live on the Coconuts Beach Bar & Grille Patio today!\n \nKevin has been playing music professionally in Ocean City\, MD since 1993.  Kevin recorded his first album\, Going Home\, in 1996\, a mix of tempos and styles. Kevin’s second album Troubador was released in 2001. Troubador is a very layered and meticulously recorded CD created with a large band and encompassing many musical styles. In 2006 Kevin’s third album\, Scenic Route was released. Scenic Route is a fun lighthearted CD with an eclectic mix of originals and covers\, including covers of the Beatles\, Elvis Costello\, The Church and more. Originals such as A.D.D.\, Stairway to Kevin\, King Midas\, and the crowd favorite\, Redneck Nascar Honey\, which has received a lot of airplay in the Maryland/Delaware area. 
URL:https://ocmannproperties.com/event/kevin-poole-live-on-coconuts-patio/
END:VEVENT
BEGIN:VEVENT
DTSTART;TZID=America/New_York:20180614T170000
DTEND;TZID=America/New_York:20180614T210000
DTSTAMP:20260424T122530
CREATED:20180614T085906Z
LAST-MODIFIED:20180614T085906Z
UID:2093462-1528995600-1529010000@ocmannproperties.com
SUMMARY:Rew Smith
DESCRIPTION:With his addictive melodies\, a soulful vocal style and an off-the-beaten-path kind of pop-sensibility\, Smith is quickly gaining formidable momentum towards becoming a major national act. He has shared the stage with My Chemical Romance\, The Used\, Thrice\, Story of the Year\, The Bouncing Souls\, The Pietasters\, The Heartless Bastards\, Eric Hutchinson\, Virginia Coalition\, two-time Emmy Award winner Michael Whalen (Good Morning America\, Oprah Winfrey\, Inside Edition) and most recently\, Graham Colton. Having previously been the front man for the Maryland-based bands Plan B\, Truesetto and The Making\, he made his solo debut in April of 2008 with the release of his EP\, “Sweet\, Sweet Nothing\,” mixed by Drew Mazurek (Linkin Park\, HIM).\n 
URL:https://ocmannproperties.com/event/rew-smith-9/
END:VEVENT
END:VCALENDAR