BEGIN:VCALENDAR
VERSION:2.0
PRODID:-//Ocean City MD Property Management - ECPv5.12.3//NONSGML v1.0//EN
CALSCALE:GREGORIAN
METHOD:PUBLISH
X-WR-CALNAME:Ocean City MD Property Management
X-ORIGINAL-URL:https://ocmannproperties.com
X-WR-CALDESC:Events for Ocean City MD Property Management
BEGIN:VTIMEZONE
TZID:America/New_York
BEGIN:DAYLIGHT
TZOFFSETFROM:-0500
TZOFFSETTO:-0400
TZNAME:EDT
DTSTART:20180311T070000
END:DAYLIGHT
BEGIN:STANDARD
TZOFFSETFROM:-0400
TZOFFSETTO:-0500
TZNAME:EST
DTSTART:20181104T060000
END:STANDARD
END:VTIMEZONE
BEGIN:VEVENT
DTSTART;TZID=America/New_York:20180721T080000
DTEND;TZID=America/New_York:20180721T170000
DTSTAMP:20260424T104116
CREATED:20180721T090211Z
LAST-MODIFIED:20180721T090211Z
UID:2093554-1532160000-1532192400@ocmannproperties.com
SUMMARY:Ocean Games Swim Ocean City
DESCRIPTION:The Ocean Games is an annual event held along the beautiful shoreline of Ocean City\, Maryland. Conducted in cooperation with the Town of Ocean City\, the Ocean City Beach Patrol\, and the United States Coast Guard\, the Ocean Games features two main competitions. “Swim Ocean City”\, a WOWSA-sanctioned ocean race\, features 1\, 3 and 9-mile ocean swims\, while the “East Coast SUP CUP”\, a unique ocean paddleboard event\, offers 4 and 2-mile elite and open paddleboard races.\n \nIn addition to providing you with an incredible open water experience\, the Ocean Games’ mission is to raise funds for the Johns Hopkins Brain and Stroke Rehabilitation Program\, while simultaneously increasing awareness of brain injuries and recovery and promoting the positive effects that sports have on the mind and the body.
URL:https://ocmannproperties.com/event/ocean-games-swim-ocean-city-3/
END:VEVENT
BEGIN:VEVENT
DTSTART;TZID=America/New_York:20180721T080000
DTEND;TZID=America/New_York:20180721T170000
DTSTAMP:20260424T104116
CREATED:20180721T210153Z
LAST-MODIFIED:20180721T210153Z
UID:2093555-1532160000-1532192400@ocmannproperties.com
SUMMARY:Ocean Games Swim Ocean City
DESCRIPTION:The Ocean Games is an annual event held along the beautiful shoreline of Ocean City\, Maryland. Conducted in cooperation with the Town of Ocean City\, the Ocean City Beach Patrol\, and the United States Coast Guard\, the Ocean Games features two main competitions. “Swim Ocean City”\, a WOWSA-sanctioned ocean race\, features 1\, 3 and 9-mile ocean swims\, while the “East Coast SUP CUP”\, a unique ocean paddleboard event\, offers 4 and 2-mile elite and open paddleboard races.\n \nIn addition to providing you with an incredible open water experience\, the Ocean Games’ mission is to raise funds for the Johns Hopkins Brain and Stroke Rehabilitation Program\, while simultaneously increasing awareness of brain injuries and recovery and promoting the positive effects that sports have on the mind and the body.
URL:https://ocmannproperties.com/event/ocean-games-swim-ocean-city-4/
END:VEVENT
END:VCALENDAR