BEGIN:VCALENDAR
VERSION:2.0
PRODID:-//Ocean City MD Property Management - ECPv5.12.3//NONSGML v1.0//EN
CALSCALE:GREGORIAN
METHOD:PUBLISH
X-WR-CALNAME:Ocean City MD Property Management
X-ORIGINAL-URL:https://ocmannproperties.com
X-WR-CALDESC:Events for Ocean City MD Property Management
BEGIN:VTIMEZONE
TZID:America/New_York
BEGIN:DAYLIGHT
TZOFFSETFROM:-0500
TZOFFSETTO:-0400
TZNAME:EDT
DTSTART:20190310T070000
END:DAYLIGHT
BEGIN:STANDARD
TZOFFSETFROM:-0400
TZOFFSETTO:-0500
TZNAME:EST
DTSTART:20191103T060000
END:STANDARD
END:VTIMEZONE
BEGIN:VEVENT
DTSTART;TZID=America/New_York:20191006T090000
DTEND;TZID=America/New_York:20191006T123000
DTSTAMP:20260423T063439
CREATED:20191006T090027Z
LAST-MODIFIED:20191006T090027Z
UID:2094499-1570352400-1570365000@ocmannproperties.com
SUMMARY:Island Cruise with Ropewalk
DESCRIPTION:Join us for our first Island Cruise which will benefit the Ocean City Police Department Memorial Scholarship in memory of PFC Joshua Dale Adickes and Office Thomas James Geoghegan Jr.  \n \nCruise Schedule:\n \n~ 9:00 am – 11:00 am \nCheck-in at Ropewalk Ocean City and enjoy a light breakfast and free t-shirt \n~11:00 am \nLeave Ropewalk Ocean City with Police escort taking the scenic route to Ropewalk Chincoteague  \n\n~12:30 pm \nArrive at Ropewalk Chincoteague and enjoy lunch\, reduced drinks and live music on our beach  \nAll Vehicles Welcome \nDonation: $30    
URL:https://ocmannproperties.com/event/island-cruise-with-ropewalk/
END:VEVENT
BEGIN:VEVENT
DTSTART;TZID=America/New_York:20191006T090000
DTEND;TZID=America/New_York:20191006T123000
DTSTAMP:20260423T063439
CREATED:20191006T210130Z
LAST-MODIFIED:20191006T210130Z
UID:2094500-1570352400-1570365000@ocmannproperties.com
SUMMARY:Island Cruise with Ropewalk
DESCRIPTION:Join us for our first Island Cruise which will benefit the Ocean City Police Department Memorial Scholarship in memory of PFC Joshua Dale Adickes and Office Thomas James Geoghegan Jr.  \n \nCruise Schedule:\n \n~ 9:00 am – 11:00 am \nCheck-in at Ropewalk Ocean City and enjoy a light breakfast and free t-shirt \n~11:00 am \nLeave Ropewalk Ocean City with Police escort taking the scenic route to Ropewalk Chincoteague  \n\n~12:30 pm \nArrive at Ropewalk Chincoteague and enjoy lunch\, reduced drinks and live music on our beach  \nAll Vehicles Welcome \nDonation: $30    
URL:https://ocmannproperties.com/event/island-cruise-with-ropewalk-2/
END:VEVENT
END:VCALENDAR