BEGIN:VCALENDAR
VERSION:2.0
PRODID:-//Ocean City MD Property Management - ECPv5.12.3//NONSGML v1.0//EN
CALSCALE:GREGORIAN
METHOD:PUBLISH
X-WR-CALNAME:Ocean City MD Property Management
X-ORIGINAL-URL:https://ocmannproperties.com
X-WR-CALDESC:Events for Ocean City MD Property Management
BEGIN:VTIMEZONE
TZID:America/New_York
BEGIN:DAYLIGHT
TZOFFSETFROM:-0500
TZOFFSETTO:-0400
TZNAME:EDT
DTSTART:20190310T070000
END:DAYLIGHT
BEGIN:STANDARD
TZOFFSETFROM:-0400
TZOFFSETTO:-0500
TZNAME:EST
DTSTART:20191103T060000
END:STANDARD
END:VTIMEZONE
BEGIN:VEVENT
DTSTART;TZID=America/New_York:20191028T103000
DTEND;TZID=America/New_York:20191028T113000
DTSTAMP:20260423T050220
CREATED:20191028T090125Z
LAST-MODIFIED:20191028T090125Z
UID:2094546-1572258600-1572262200@ocmannproperties.com
SUMMARY:M& M Science Rainbow | Maryland Stem Festival
DESCRIPTION:Children of all ages have been invited to the Ocean City Library where they will be able to explore the colors of the rainbow while conducting a fun M&M science experiment. 
URL:https://ocmannproperties.com/event/m-m-science-rainbow-maryland-stem-festival/
END:VEVENT
BEGIN:VEVENT
DTSTART;TZID=America/New_York:20191028T103000
DTEND;TZID=America/New_York:20191028T113000
DTSTAMP:20260423T050220
CREATED:20191028T210743Z
LAST-MODIFIED:20191028T210743Z
UID:2094547-1572258600-1572262200@ocmannproperties.com
SUMMARY:M& M Science Rainbow | Maryland Stem Festival
DESCRIPTION:Children of all ages have been invited to the Ocean City Library where they will be able to explore the colors of the rainbow while conducting a fun M&M science experiment. 
URL:https://ocmannproperties.com/event/m-m-science-rainbow-maryland-stem-festival-2/
END:VEVENT
END:VCALENDAR