BEGIN:VCALENDAR
VERSION:2.0
PRODID:-//Ocean City MD Property Management - ECPv5.12.3//NONSGML v1.0//EN
CALSCALE:GREGORIAN
METHOD:PUBLISH
X-WR-CALNAME:Ocean City MD Property Management
X-ORIGINAL-URL:https://ocmannproperties.com
X-WR-CALDESC:Events for Ocean City MD Property Management
BEGIN:VTIMEZONE
TZID:America/New_York
BEGIN:DAYLIGHT
TZOFFSETFROM:-0500
TZOFFSETTO:-0400
TZNAME:EDT
DTSTART:20190310T070000
END:DAYLIGHT
BEGIN:STANDARD
TZOFFSETFROM:-0400
TZOFFSETTO:-0500
TZNAME:EST
DTSTART:20191103T060000
END:STANDARD
END:VTIMEZONE
BEGIN:VEVENT
DTSTART;TZID=America/New_York:20191106T110000
DTEND;TZID=America/New_York:20191106T120000
DTSTAMP:20260423T061515
CREATED:20191106T090042Z
LAST-MODIFIED:20191106T090042Z
UID:2094564-1573038000-1573041600@ocmannproperties.com
SUMMARY:Wine & Dine with Windmill Creek & Burley Cafe
DESCRIPTION:Wine and Dine with Windmill Creek Vineyard and Winery and Burley Cafe as they partner to serve 5 passed heavy hors d’ oeuvres and Wine flights. Mingle with other guests and taste each course at your own leisure. \n \nEvening Menu:\n \nFirst Course ~ \nGruner Veltiner 2018\nLocal Diver Oyster\nPickles Horseradish and Vegetable Salad\n \nSecond Course ~ \nRiesling 2018\nCambenbert Crostini\nRoasted Pumpkin\nFuji Apple Butter \n\nThird Course ~\nRose\nOld Bay Gnarley Waffle\nCrab Cake Topped \nSweet Corn Relish\nApple Cider Gastrique \n \nFourth Course ~ \nChambourcin 201\nBLT; Bacon\, Bibb Lettuce and Heirloom Tomato Caviar \n \nFifth Course ~ \nSummer Red 2018\nSmores; Brule Marshmallow\, Graham Cracker Dust\, Milk Chocolate Baton  \n$50 per Ticket 
URL:https://ocmannproperties.com/event/wine-dine-with-windmill-creek-burley-cafe/
END:VEVENT
BEGIN:VEVENT
DTSTART;TZID=America/New_York:20191106T110000
DTEND;TZID=America/New_York:20191106T120000
DTSTAMP:20260423T061515
CREATED:20191106T210026Z
LAST-MODIFIED:20191106T210026Z
UID:2094565-1573038000-1573041600@ocmannproperties.com
SUMMARY:Wine & Dine with Windmill Creek & Burley Cafe
DESCRIPTION:Wine and Dine with Windmill Creek Vineyard and Winery and Burley Cafe as they partner to serve 5 passed heavy hors d’ oeuvres and Wine flights. Mingle with other guests and taste each course at your own leisure. \n \nEvening Menu:\n \nFirst Course ~ \nGruner Veltiner 2018\nLocal Diver Oyster\nPickles Horseradish and Vegetable Salad\n \nSecond Course ~ \nRiesling 2018\nCambenbert Crostini\nRoasted Pumpkin\nFuji Apple Butter \n\nThird Course ~\nRose\nOld Bay Gnarley Waffle\nCrab Cake Topped \nSweet Corn Relish\nApple Cider Gastrique \n \nFourth Course ~ \nChambourcin 201\nBLT; Bacon\, Bibb Lettuce and Heirloom Tomato Caviar \n \nFifth Course ~ \nSummer Red 2018\nSmores; Brule Marshmallow\, Graham Cracker Dust\, Milk Chocolate Baton  \n$50 per Ticket 
URL:https://ocmannproperties.com/event/wine-dine-with-windmill-creek-burley-cafe-2/
END:VEVENT
END:VCALENDAR