BEGIN:VCALENDAR
VERSION:2.0
PRODID:-//Ocean City MD Property Management - ECPv5.12.3//NONSGML v1.0//EN
CALSCALE:GREGORIAN
METHOD:PUBLISH
X-WR-CALNAME:Ocean City MD Property Management
X-ORIGINAL-URL:https://ocmannproperties.com
X-WR-CALDESC:Events for Ocean City MD Property Management
BEGIN:VTIMEZONE
TZID:America/New_York
BEGIN:DAYLIGHT
TZOFFSETFROM:-0500
TZOFFSETTO:-0400
TZNAME:EDT
DTSTART:20190310T070000
END:DAYLIGHT
BEGIN:STANDARD
TZOFFSETFROM:-0400
TZOFFSETTO:-0500
TZNAME:EST
DTSTART:20191103T060000
END:STANDARD
END:VTIMEZONE
BEGIN:VEVENT
DTSTART;TZID=America/New_York:20191219T100000
DTEND;TZID=America/New_York:20191219T130000
DTSTAMP:20260423T025347
CREATED:20191219T085855Z
LAST-MODIFIED:20191219T085855Z
UID:2094651-1576749600-1576760400@ocmannproperties.com
SUMMARY:Local Colors\, Watercolors Class With Gerilyn Gaskill
DESCRIPTION:Watch watercolor demonstrations and try your hand as you paint along with Gerilyn Gaskill at the Art League of Ocean workshop! Have fun while you learn to capture the “local color” in watercolors.\n \nAll levels welcome. Bring your own supplies or rent a complete watercolor kit for $10\n \n\nInstructor Gerilyn Gaskill\n$25 for members\, $30 for non-members\n\n 
URL:https://ocmannproperties.com/event/local-colors-watercolors-class-with-gerilyn-gaskill/
END:VEVENT
BEGIN:VEVENT
DTSTART;TZID=America/New_York:20191219T100000
DTEND;TZID=America/New_York:20191219T130000
DTSTAMP:20260423T025347
CREATED:20191219T205827Z
LAST-MODIFIED:20191219T205827Z
UID:2094652-1576749600-1576760400@ocmannproperties.com
SUMMARY:Local Colors\, Watercolors Class With Gerilyn Gaskill
DESCRIPTION:Watch watercolor demonstrations and try your hand as you paint along with Gerilyn Gaskill at the Art League of Ocean workshop! Have fun while you learn to capture the “local color” in watercolors.\n \nAll levels welcome. Bring your own supplies or rent a complete watercolor kit for $10\n \n\nInstructor Gerilyn Gaskill\n$25 for members\, $30 for non-members\n\n 
URL:https://ocmannproperties.com/event/local-colors-watercolors-class-with-gerilyn-gaskill-2/
END:VEVENT
END:VCALENDAR