BEGIN:VCALENDAR
VERSION:2.0
PRODID:-//Ocean City MD Property Management - ECPv5.12.3//NONSGML v1.0//EN
CALSCALE:GREGORIAN
METHOD:PUBLISH
X-WR-CALNAME:Ocean City MD Property Management
X-ORIGINAL-URL:https://ocmannproperties.com
X-WR-CALDESC:Events for Ocean City MD Property Management
BEGIN:VTIMEZONE
TZID:America/New_York
BEGIN:DAYLIGHT
TZOFFSETFROM:-0500
TZOFFSETTO:-0400
TZNAME:EDT
DTSTART:20200308T070000
END:DAYLIGHT
BEGIN:STANDARD
TZOFFSETFROM:-0400
TZOFFSETTO:-0500
TZNAME:EST
DTSTART:20201101T060000
END:STANDARD
END:VTIMEZONE
BEGIN:VEVENT
DTSTART;TZID=America/New_York:20200217T110000
DTEND;TZID=America/New_York:20200217T114500
DTSTAMP:20260422T233153
CREATED:20200217T090050Z
LAST-MODIFIED:20200217T090050Z
UID:2094783-1581937200-1581939900@ocmannproperties.com
SUMMARY:Senior Health: Ageless Grace
DESCRIPTION:Ageless Grace is brain health exercise program that works the core and activates the organs and systems of the body\, all while seated in a chair. The 21 tools of the program\, are based on the cutting-edge science of neuroplasticity – the ability of the brain to change structurally and functionally. All the tools to stimulate and utilize the five functions of the brain: analytic\, strategic\, kinesthetic\, learning\, memory/recall\, and creativity/imagination. Just two or three tools each day\, for no more than 10 minutes\, is all that’s required to get plenty of benefit from the program.\n \nWinter *253600\n \nWho: Senior Adults\, 50 Years and Older\n \nDates: Monday mornings January 13th – March 2nd (No Class 1/20 and 1/27\n \nLocation: Northside Park Recreation Complex\n \nPrice:\n$24.00 Price Per Person\n$13.00 Price Per Ocean City Resident\n$5.00 Drop In Rate\n \nRecreation Supervisor: Denise Ortega  
URL:https://ocmannproperties.com/event/senior-health-ageless-grace-3/
END:VEVENT
BEGIN:VEVENT
DTSTART;TZID=America/New_York:20200217T110000
DTEND;TZID=America/New_York:20200217T114500
DTSTAMP:20260422T233153
CREATED:20200217T205900Z
LAST-MODIFIED:20200217T205900Z
UID:2094784-1581937200-1581939900@ocmannproperties.com
SUMMARY:Senior Health: Ageless Grace
DESCRIPTION:Ageless Grace is brain health exercise program that works the core and activates the organs and systems of the body\, all while seated in a chair. The 21 tools of the program\, are based on the cutting-edge science of neuroplasticity – the ability of the brain to change structurally and functionally. All the tools to stimulate and utilize the five functions of the brain: analytic\, strategic\, kinesthetic\, learning\, memory/recall\, and creativity/imagination. Just two or three tools each day\, for no more than 10 minutes\, is all that’s required to get plenty of benefit from the program.\n \nWinter *253600\n \nWho: Senior Adults\, 50 Years and Older\n \nDates: Monday mornings January 13th – March 2nd (No Class 1/20 and 1/27\n \nLocation: Northside Park Recreation Complex\n \nPrice:\n$24.00 Price Per Person\n$13.00 Price Per Ocean City Resident\n$5.00 Drop In Rate\n \nRecreation Supervisor: Denise Ortega  
URL:https://ocmannproperties.com/event/senior-health-ageless-grace-4/
END:VEVENT
END:VCALENDAR