BEGIN:VCALENDAR
VERSION:2.0
PRODID:-//Ocean City MD Property Management - ECPv5.12.3//NONSGML v1.0//EN
CALSCALE:GREGORIAN
METHOD:PUBLISH
X-WR-CALNAME:Ocean City MD Property Management
X-ORIGINAL-URL:https://ocmannproperties.com
X-WR-CALDESC:Events for Ocean City MD Property Management
BEGIN:VTIMEZONE
TZID:America/New_York
BEGIN:DAYLIGHT
TZOFFSETFROM:-0500
TZOFFSETTO:-0400
TZNAME:EDT
DTSTART:20200308T070000
END:DAYLIGHT
BEGIN:STANDARD
TZOFFSETFROM:-0400
TZOFFSETTO:-0500
TZNAME:EST
DTSTART:20201101T060000
END:STANDARD
END:VTIMEZONE
BEGIN:VEVENT
DTSTART;VALUE=DATE:20200301
DTEND;VALUE=DATE:20200302
DTSTAMP:20260422T213216
CREATED:20200301T085933Z
LAST-MODIFIED:20200301T085933Z
UID:2094813-1583020800-1583107199@ocmannproperties.com
SUMMARY:St. Patrick's Indoor Soccer Tournament
DESCRIPTION:Thank you for your interest in the St. Patrick’s Indoor Soccer Tournament. This adult tournament provides the opportunity to test your skills against the best of the best. Not 18 yet? Don’t fret! The Ocean City Indoor Cup offers tournament play for teams 10-18.  \nYounger divisions play February 7-9 (2006 – 2010) and the older divisions play February 21-23 (2002 – 2005).  \nThese tournaments will offer the same\, exciting indoor soccer action before everyone heads outdoors for the spring season.  \nThe St. Patrick’s Indoor Soccer Tournament is bringing back the popular Over 30 Division for both men and women. These exciting divisions will play the same weekend as the Co-Rec Division\, February 28- March 1. We will also have our top flight event\, the Men’s and Women’s Divisions\, March 13-15. \nFebruary 28 – March 1\, 2020\nAdult Co-Rec (18+)\nMen’s Over 30\nWomen’s Over 30 \nMarch 13 – March 15\, 2020\nMen’s (18+)\nWomen’s (18+) \nTEAM ENTRY\nFEE:  $400 non-refundable fee must accompany team entry form. \nRegistration\nDeadline: February 19\, 2020 or when the tournament fills whichever is first \nFor more information\, please contact the Town of Ocean City:\n410-250-5409tournaments@oceancitymd.gov
URL:https://ocmannproperties.com/event/st-patricks-indoor-soccer-tournament-5/
END:VEVENT
BEGIN:VEVENT
DTSTART;VALUE=DATE:20200301
DTEND;VALUE=DATE:20200302
DTSTAMP:20260422T213216
CREATED:20200301T210620Z
LAST-MODIFIED:20200301T210620Z
UID:2094814-1583020800-1583107199@ocmannproperties.com
SUMMARY:St. Patrick's Indoor Soccer Tournament
DESCRIPTION:Thank you for your interest in the St. Patrick’s Indoor Soccer Tournament. This adult tournament provides the opportunity to test your skills against the best of the best. Not 18 yet? Don’t fret! The Ocean City Indoor Cup offers tournament play for teams 10-18.  \nYounger divisions play February 7-9 (2006 – 2010) and the older divisions play February 21-23 (2002 – 2005).  \nThese tournaments will offer the same\, exciting indoor soccer action before everyone heads outdoors for the spring season.  \nThe St. Patrick’s Indoor Soccer Tournament is bringing back the popular Over 30 Division for both men and women. These exciting divisions will play the same weekend as the Co-Rec Division\, February 28- March 1. We will also have our top flight event\, the Men’s and Women’s Divisions\, March 13-15. \nFebruary 28 – March 1\, 2020\nAdult Co-Rec (18+)\nMen’s Over 30\nWomen’s Over 30 \nMarch 13 – March 15\, 2020\nMen’s (18+)\nWomen’s (18+) \nTEAM ENTRY\nFEE:  $400 non-refundable fee must accompany team entry form. \nRegistration\nDeadline: February 19\, 2020 or when the tournament fills whichever is first \nFor more information\, please contact the Town of Ocean City:\n410-250-5409tournaments@oceancitymd.gov
URL:https://ocmannproperties.com/event/st-patricks-indoor-soccer-tournament-6/
END:VEVENT
END:VCALENDAR