BEGIN:VCALENDAR
VERSION:2.0
PRODID:-//Ocean City MD Property Management - ECPv5.12.3//NONSGML v1.0//EN
CALSCALE:GREGORIAN
METHOD:PUBLISH
X-WR-CALNAME:Ocean City MD Property Management
X-ORIGINAL-URL:https://ocmannproperties.com
X-WR-CALDESC:Events for Ocean City MD Property Management
BEGIN:VTIMEZONE
TZID:America/New_York
BEGIN:DAYLIGHT
TZOFFSETFROM:-0500
TZOFFSETTO:-0400
TZNAME:EDT
DTSTART:20200308T070000
END:DAYLIGHT
BEGIN:STANDARD
TZOFFSETFROM:-0400
TZOFFSETTO:-0500
TZNAME:EST
DTSTART:20201101T060000
END:STANDARD
END:VTIMEZONE
BEGIN:VEVENT
DTSTART;VALUE=DATE:20200306
DTEND;VALUE=DATE:20200307
DTSTAMP:20260422T213217
CREATED:20200306T085915Z
LAST-MODIFIED:20200306T085915Z
UID:2094823-1583452800-1583539199@ocmannproperties.com
SUMMARY:Mite Beach Bash
DESCRIPTION:Get Ready for Fun!\n\nAs you know if you were here before\, or if this is your first tournament with us\, we organized this tournament for the love of the game!\n\nThe children\, as well as their parents\, will have a very unique experience during the Mite Beach Bash weekend.\n\nEach team will start playing their games on Friday early afternoon\, with games on Saturday\, and a championship game on Sunday. Minimum of 4 games.\n\nPartnering with the Carousel Resort gives the tournament a feel like no other! Kids can play their hearts out\, while the parents can sit and enjoy the game up close to the rink or from their room balconies. This tournament is based on everyone having FUN and not so much about winning!\n\nThroughout your team’s downtime\, you will be able to participate in various activities provided to you!\n\nPlease take advantage of all the wonderful amenities on the premises; the indoor pool\, restaurants\, and bar. 
URL:https://ocmannproperties.com/event/mite-beach-bash/
END:VEVENT
BEGIN:VEVENT
DTSTART;VALUE=DATE:20200306
DTEND;VALUE=DATE:20200307
DTSTAMP:20260422T213217
CREATED:20200306T210214Z
LAST-MODIFIED:20200306T210214Z
UID:2094824-1583452800-1583539199@ocmannproperties.com
SUMMARY:Mite Beach Bash
DESCRIPTION:Get Ready for Fun!\n\nAs you know if you were here before\, or if this is your first tournament with us\, we organized this tournament for the love of the game!\n\nThe children\, as well as their parents\, will have a very unique experience during the Mite Beach Bash weekend.\n\nEach team will start playing their games on Friday early afternoon\, with games on Saturday\, and a championship game on Sunday. Minimum of 4 games.\n\nPartnering with the Carousel Resort gives the tournament a feel like no other! Kids can play their hearts out\, while the parents can sit and enjoy the game up close to the rink or from their room balconies. This tournament is based on everyone having FUN and not so much about winning!\n\nThroughout your team’s downtime\, you will be able to participate in various activities provided to you!\n\nPlease take advantage of all the wonderful amenities on the premises; the indoor pool\, restaurants\, and bar. 
URL:https://ocmannproperties.com/event/mite-beach-bash-2/
END:VEVENT
END:VCALENDAR