BEGIN:VCALENDAR
VERSION:2.0
PRODID:-//Ocean City MD Property Management - ECPv5.12.3//NONSGML v1.0//EN
CALSCALE:GREGORIAN
METHOD:PUBLISH
X-WR-CALNAME:Ocean City MD Property Management
X-ORIGINAL-URL:https://ocmannproperties.com
X-WR-CALDESC:Events for Ocean City MD Property Management
BEGIN:VTIMEZONE
TZID:America/New_York
BEGIN:DAYLIGHT
TZOFFSETFROM:-0500
TZOFFSETTO:-0400
TZNAME:EDT
DTSTART:20200308T070000
END:DAYLIGHT
BEGIN:STANDARD
TZOFFSETFROM:-0400
TZOFFSETTO:-0500
TZNAME:EST
DTSTART:20201101T060000
END:STANDARD
END:VTIMEZONE
BEGIN:VEVENT
DTSTART;TZID=America/New_York:20200320T100000
DTEND;TZID=America/New_York:20200320T130000
DTSTAMP:20260422T213216
CREATED:20200320T090100Z
LAST-MODIFIED:20200320T090100Z
UID:2094854-1584698400-1584709200@ocmannproperties.com
SUMMARY:Exploring the World of Watercolor Class with Kathy Bohs
DESCRIPTION:Come to the Art League of Ocean City for an Exploring the World of Watercolor with Kathy Bohs event.  Learn to use your creativity through watercolor painting.  We will cover different techniques\, ideas\, and tips. This workshop is great if you’re new to Watercolor or just want to re-energize your own skills. Paint from life or from a photograph by really looking at colors\, shapes\, shadows\, and light spots to create sparkle.\n \n  \nThe cost for this event is $25 for members and $30 for non-members.
URL:https://ocmannproperties.com/event/exploring-the-world-of-watercolor-class-with-kathy-bohs/
END:VEVENT
BEGIN:VEVENT
DTSTART;TZID=America/New_York:20200320T100000
DTEND;TZID=America/New_York:20200320T130000
DTSTAMP:20260422T213216
CREATED:20200320T205824Z
LAST-MODIFIED:20200320T205824Z
UID:2094855-1584698400-1584709200@ocmannproperties.com
SUMMARY:Exploring the World of Watercolor Class with Kathy Bohs
DESCRIPTION:Come to the Art League of Ocean City for an Exploring the World of Watercolor with Kathy Bohs event.  Learn to use your creativity through watercolor painting.  We will cover different techniques\, ideas\, and tips. This workshop is great if you’re new to Watercolor or just want to re-energize your own skills. Paint from life or from a photograph by really looking at colors\, shapes\, shadows\, and light spots to create sparkle.\n \n  \nThe cost for this event is $25 for members and $30 for non-members.
URL:https://ocmannproperties.com/event/exploring-the-world-of-watercolor-class-with-kathy-bohs-2/
END:VEVENT
END:VCALENDAR