BEGIN:VCALENDAR
VERSION:2.0
PRODID:-//Ocean City MD Property Management - ECPv5.12.3//NONSGML v1.0//EN
CALSCALE:GREGORIAN
METHOD:PUBLISH
X-WR-CALNAME:Ocean City MD Property Management
X-ORIGINAL-URL:https://ocmannproperties.com
X-WR-CALDESC:Events for Ocean City MD Property Management
BEGIN:VTIMEZONE
TZID:America/New_York
BEGIN:DAYLIGHT
TZOFFSETFROM:-0500
TZOFFSETTO:-0400
TZNAME:EDT
DTSTART:20200308T070000
END:DAYLIGHT
BEGIN:STANDARD
TZOFFSETFROM:-0400
TZOFFSETTO:-0500
TZNAME:EST
DTSTART:20201101T060000
END:STANDARD
END:VTIMEZONE
BEGIN:VEVENT
DTSTART;TZID=America/New_York:20200425T090000
DTEND;TZID=America/New_York:20200425T140000
DTSTAMP:20260422T195610
CREATED:20200425T085825Z
LAST-MODIFIED:20200425T085825Z
UID:2094928-1587805200-1587823200@ocmannproperties.com
SUMMARY:Komen More Than Pink Walk - POSTPONED
DESCRIPTION:Ocean City\,\nMD – Susan G. Komen Maryland told supporters to expect some changes at its\nannual fundraising walk this spring. Komen has been hard at work on the next\nevolution in the history of the Race for the Cure® series\, and residents of the\nEastern Shore will be among the first in the country to see it!   \nKomen Maryland has selected to be one of twenty-six locations across the\ncountry to launch the new Susan G. Komen MORE THAN PINK WalkTM event\, which\nalong with a new name will include a fresh new look and experience focused on\nenergizing the community around the lifesaving work Komen’s supporters make\npossible. This new approach is based on input from participants across the\ncountry\, data from nine pilot events in 2018\, and by Komen’s own observations from\nyears as the leader in breast cancer walks.   \n“Much of what you have come to love about the Race will continue with our new\nMORE THAN PINK Walk\,” said Michael Jessup\, executive director of Komen\nMaryland\, “These changes are intended to increase people’s connection to our\nwork beyond breast cancer awareness.  Together\, we are more than pink–a\ncommunity of people who want to do more for research\, more for our communities\,\nmore for those among us who are living with breast cancer – including metastatic\nbreast cancer – and more action to get us to cures.” \nThe biggest difference is that the MORE THAN PINK Walk will not have a separate\ntimed run element\, focusing instead on the vast majority of the event’s\nparticipants who walk\, rather than run\, during the event historically. This\nchange will create a greater sense of community among participants and will\nprovide a more personalized\, emotional experience for all who attend.   \n$20\nregistration fee through Walk Day!  \nAll survivors will receive a complimentary t-shirt and a surprise gift to use\nin the opening ceremonies. All general participants will receive a surprise\ngift to use in the open ceremonies but must fundraise $100 to receive a\nt-shirt. \n 
URL:https://ocmannproperties.com/event/komen-more-than-pink-walk-postponed/
END:VEVENT
BEGIN:VEVENT
DTSTART;TZID=America/New_York:20200425T090000
DTEND;TZID=America/New_York:20200425T140000
DTSTAMP:20260422T195610
CREATED:20200425T210229Z
LAST-MODIFIED:20200425T210229Z
UID:2094929-1587805200-1587823200@ocmannproperties.com
SUMMARY:Komen More Than Pink Walk - POSTPONED
DESCRIPTION:Ocean City\,\nMD – Susan G. Komen Maryland told supporters to expect some changes at its\nannual fundraising walk this spring. Komen has been hard at work on the next\nevolution in the history of the Race for the Cure® series\, and residents of the\nEastern Shore will be among the first in the country to see it!   \nKomen Maryland has selected to be one of twenty-six locations across the\ncountry to launch the new Susan G. Komen MORE THAN PINK WalkTM event\, which\nalong with a new name will include a fresh new look and experience focused on\nenergizing the community around the lifesaving work Komen’s supporters make\npossible. This new approach is based on input from participants across the\ncountry\, data from nine pilot events in 2018\, and by Komen’s own observations from\nyears as the leader in breast cancer walks.   \n“Much of what you have come to love about the Race will continue with our new\nMORE THAN PINK Walk\,” said Michael Jessup\, executive director of Komen\nMaryland\, “These changes are intended to increase people’s connection to our\nwork beyond breast cancer awareness.  Together\, we are more than pink–a\ncommunity of people who want to do more for research\, more for our communities\,\nmore for those among us who are living with breast cancer – including metastatic\nbreast cancer – and more action to get us to cures.” \nThe biggest difference is that the MORE THAN PINK Walk will not have a separate\ntimed run element\, focusing instead on the vast majority of the event’s\nparticipants who walk\, rather than run\, during the event historically. This\nchange will create a greater sense of community among participants and will\nprovide a more personalized\, emotional experience for all who attend.   \n$20\nregistration fee through Walk Day!  \nAll survivors will receive a complimentary t-shirt and a surprise gift to use\nin the opening ceremonies. All general participants will receive a surprise\ngift to use in the open ceremonies but must fundraise $100 to receive a\nt-shirt. \n 
URL:https://ocmannproperties.com/event/komen-more-than-pink-walk-postponed-2/
END:VEVENT
END:VCALENDAR