BEGIN:VCALENDAR
VERSION:2.0
PRODID:-//Ocean City MD Property Management - ECPv5.12.3//NONSGML v1.0//EN
CALSCALE:GREGORIAN
METHOD:PUBLISH
X-WR-CALNAME:Ocean City MD Property Management
X-ORIGINAL-URL:https://ocmannproperties.com
X-WR-CALDESC:Events for Ocean City MD Property Management
BEGIN:VTIMEZONE
TZID:America/New_York
BEGIN:DAYLIGHT
TZOFFSETFROM:-0500
TZOFFSETTO:-0400
TZNAME:EDT
DTSTART:20200308T070000
END:DAYLIGHT
BEGIN:STANDARD
TZOFFSETFROM:-0400
TZOFFSETTO:-0500
TZNAME:EST
DTSTART:20201101T060000
END:STANDARD
END:VTIMEZONE
BEGIN:VEVENT
DTSTART;TZID=America/New_York:20200426T100000
DTEND;TZID=America/New_York:20200426T160000
DTSTAMP:20260422T195609
CREATED:20200426T085910Z
LAST-MODIFIED:20200426T085910Z
UID:2094930-1587895200-1587916800@ocmannproperties.com
SUMMARY:Ward World Carving Competition & Festival - CANCELLED
DESCRIPTION:50th Annual\nWard World Championship\, Wildfowl Carving Competition and Art Festival \n\n\n\nThe World Championship is an international event where carvers\, collectors\, and visitors convene at the end of each April in Ocean City\, MD.  From highly decorative works of art to functional hunting decoys\, about 1200 different wildfowl carvings representing more than 150 species from around the world  can be viewed at the premiere\, most prestigious competition in the world.\nSchedule of Events and Hours:  \n\nThursday: Registration 11:00 am – 8:00 pm\nArtist After Hours at the Ocean City Center for the Arts\, 5:00 pm – 8:00 pm \n \nFriday\, 10:00 am – 5 pm\nLiving Legends Award Presentation (Performing Arts Center) 5:30 pm – 8:00 pm \n\nSaturday\, 9:00 am – 5 pm\nWorld Class Art and Carving Benefit Auction (Performing Arts Center) 2:00 pm \nAward Ceremony at the Ocean City Performing Arts Center 5:30 pm \nSunday\, 10:00 am – 4:00 pm \nAdmission:\nMulti – Day Pass $10\nSeniors and Students – $8\nChildren under 12-  free with adult\nGroup rate for 6 or more – $6 per person \nLiving Legends Dinner Tickets – $65 for members\, $75 for non-members \n 
URL:https://ocmannproperties.com/event/ward-world-carving-competition-festival-cancelled/
END:VEVENT
BEGIN:VEVENT
DTSTART;TZID=America/New_York:20200426T100000
DTEND;TZID=America/New_York:20200426T160000
DTSTAMP:20260422T195609
CREATED:20200426T205957Z
LAST-MODIFIED:20200426T205957Z
UID:2094931-1587895200-1587916800@ocmannproperties.com
SUMMARY:Ward World Carving Competition & Festival - CANCELLED
DESCRIPTION:50th Annual\nWard World Championship\, Wildfowl Carving Competition and Art Festival \n\n\n\nThe World Championship is an international event where carvers\, collectors\, and visitors convene at the end of each April in Ocean City\, MD.  From highly decorative works of art to functional hunting decoys\, about 1200 different wildfowl carvings representing more than 150 species from around the world  can be viewed at the premiere\, most prestigious competition in the world.\nSchedule of Events and Hours:  \n\nThursday: Registration 11:00 am – 8:00 pm\nArtist After Hours at the Ocean City Center for the Arts\, 5:00 pm – 8:00 pm \n \nFriday\, 10:00 am – 5 pm\nLiving Legends Award Presentation (Performing Arts Center) 5:30 pm – 8:00 pm \n\nSaturday\, 9:00 am – 5 pm\nWorld Class Art and Carving Benefit Auction (Performing Arts Center) 2:00 pm \nAward Ceremony at the Ocean City Performing Arts Center 5:30 pm \nSunday\, 10:00 am – 4:00 pm \nAdmission:\nMulti – Day Pass $10\nSeniors and Students – $8\nChildren under 12-  free with adult\nGroup rate for 6 or more – $6 per person \nLiving Legends Dinner Tickets – $65 for members\, $75 for non-members \n 
URL:https://ocmannproperties.com/event/ward-world-carving-competition-festival-cancelled-2/
END:VEVENT
END:VCALENDAR