BEGIN:VCALENDAR
VERSION:2.0
PRODID:-//Ocean City MD Property Management - ECPv5.12.3//NONSGML v1.0//EN
CALSCALE:GREGORIAN
METHOD:PUBLISH
X-WR-CALNAME:Ocean City MD Property Management
X-ORIGINAL-URL:https://ocmannproperties.com
X-WR-CALDESC:Events for Ocean City MD Property Management
BEGIN:VTIMEZONE
TZID:America/New_York
BEGIN:DAYLIGHT
TZOFFSETFROM:-0500
TZOFFSETTO:-0400
TZNAME:EDT
DTSTART:20200308T070000
END:DAYLIGHT
BEGIN:STANDARD
TZOFFSETFROM:-0400
TZOFFSETTO:-0500
TZNAME:EST
DTSTART:20201101T060000
END:STANDARD
END:VTIMEZONE
BEGIN:VEVENT
DTSTART;TZID=America/New_York:20200427T103000
DTEND;TZID=America/New_York:20200427T110000
DTSTAMP:20260422T181428
CREATED:20200427T085925Z
LAST-MODIFIED:20200427T085925Z
UID:2094932-1587983400-1587985200@ocmannproperties.com
SUMMARY:Little Learners Program
DESCRIPTION:Little Learners program children will learn about local history and wildlife through story time\, crafts\, live animal encounters and hands on activities. \n \nAdmission: \n$5.00 for Adults; Free for children ages 6 and under!\n \nLittle Learners Program is held every 2nd and 4th Mondays of the month\, excluding holidays.
URL:https://ocmannproperties.com/event/little-learners-program-28/
END:VEVENT
BEGIN:VEVENT
DTSTART;TZID=America/New_York:20200427T103000
DTEND;TZID=America/New_York:20200427T110000
DTSTAMP:20260422T181428
CREATED:20200427T210546Z
LAST-MODIFIED:20200427T210546Z
UID:2094933-1587983400-1587985200@ocmannproperties.com
SUMMARY:Little Learners Program
DESCRIPTION:Little Learners program children will learn about local history and wildlife through story time\, crafts\, live animal encounters and hands on activities. \n \nAdmission: \n$5.00 for Adults; Free for children ages 6 and under!\n \nLittle Learners Program is held every 2nd and 4th Mondays of the month\, excluding holidays.
URL:https://ocmannproperties.com/event/little-learners-program-29/
END:VEVENT
END:VCALENDAR