BEGIN:VCALENDAR
VERSION:2.0
PRODID:-//Ocean City MD Property Management - ECPv5.12.3//NONSGML v1.0//EN
CALSCALE:GREGORIAN
METHOD:PUBLISH
X-WR-CALNAME:Ocean City MD Property Management
X-ORIGINAL-URL:https://ocmannproperties.com
X-WR-CALDESC:Events for Ocean City MD Property Management
BEGIN:VTIMEZONE
TZID:America/New_York
BEGIN:DAYLIGHT
TZOFFSETFROM:-0500
TZOFFSETTO:-0400
TZNAME:EDT
DTSTART:20200308T070000
END:DAYLIGHT
BEGIN:STANDARD
TZOFFSETFROM:-0400
TZOFFSETTO:-0500
TZNAME:EST
DTSTART:20201101T060000
END:STANDARD
END:VTIMEZONE
BEGIN:VEVENT
DTSTART;VALUE=DATE:20200430
DTEND;VALUE=DATE:20200501
DTSTAMP:20260422T181406
CREATED:20200430T091844Z
LAST-MODIFIED:20200430T091844Z
UID:2094938-1588204800-1588291199@ocmannproperties.com
SUMMARY:Yoga at Northside Park - Cancelled
DESCRIPTION:Come and rejuvenate your body with Yoga. It’s an excellent way to keep both mind and body healthy & strong. This class will show you how to stretch your whole body while connecting breathing with movement to strengthen the body\, increase flexibility\, improve balance and release stress. Yoga poses and sequences in this class can be done sitting on or standing next to chairs and mats on the floor. (Mats and other equipment are provided). Wear comfortable clothes for freedom of movement. \n \nWinter Session A: January 16th – March 5th *253611A\nWinter Session B: March 12th – April 30th *253611B\n \nCertified Instructor: Tammy Johnson\n \nWho: Seniors & Adults\n \nDays: Thursday mornings from 10:00am – 11:00am\n \nLocation: Northside Park Recreation Complex\n \nPrice:\n$51.00 Rate Per Person\n$40.00 Rate Per Ocean City Resident\n$8.00 Drop In Rate\n \nRecreation Supervisor: Anna Paterson
URL:https://ocmannproperties.com/event/yoga-at-northside-park-cancelled/
END:VEVENT
BEGIN:VEVENT
DTSTART;VALUE=DATE:20200430
DTEND;VALUE=DATE:20200501
DTSTAMP:20260422T181406
CREATED:20200430T205855Z
LAST-MODIFIED:20200430T205855Z
UID:2094939-1588204800-1588291199@ocmannproperties.com
SUMMARY:Yoga at Northside Park - Cancelled
DESCRIPTION:Come and rejuvenate your body with Yoga. It’s an excellent way to keep both mind and body healthy & strong. This class will show you how to stretch your whole body while connecting breathing with movement to strengthen the body\, increase flexibility\, improve balance and release stress. Yoga poses and sequences in this class can be done sitting on or standing next to chairs and mats on the floor. (Mats and other equipment are provided). Wear comfortable clothes for freedom of movement. \n \nWinter Session A: January 16th – March 5th *253611A\nWinter Session B: March 12th – April 30th *253611B\n \nCertified Instructor: Tammy Johnson\n \nWho: Seniors & Adults\n \nDays: Thursday mornings from 10:00am – 11:00am\n \nLocation: Northside Park Recreation Complex\n \nPrice:\n$51.00 Rate Per Person\n$40.00 Rate Per Ocean City Resident\n$8.00 Drop In Rate\n \nRecreation Supervisor: Anna Paterson
URL:https://ocmannproperties.com/event/yoga-at-northside-park-cancelled-2/
END:VEVENT
END:VCALENDAR