BEGIN:VCALENDAR
VERSION:2.0
PRODID:-//Ocean City MD Property Management - ECPv5.12.3//NONSGML v1.0//EN
CALSCALE:GREGORIAN
METHOD:PUBLISH
X-WR-CALNAME:Ocean City MD Property Management
X-ORIGINAL-URL:https://ocmannproperties.com
X-WR-CALDESC:Events for Ocean City MD Property Management
BEGIN:VTIMEZONE
TZID:America/New_York
BEGIN:DAYLIGHT
TZOFFSETFROM:-0500
TZOFFSETTO:-0400
TZNAME:EDT
DTSTART:20200308T070000
END:DAYLIGHT
BEGIN:STANDARD
TZOFFSETFROM:-0400
TZOFFSETTO:-0500
TZNAME:EST
DTSTART:20201101T060000
END:STANDARD
END:VTIMEZONE
BEGIN:VEVENT
DTSTART;TZID=America/New_York:20200502T070000
DTEND;TZID=America/New_York:20200502T133000
DTSTAMP:20260422T181428
CREATED:20200502T091357Z
LAST-MODIFIED:20200502T091357Z
UID:2094942-1588402800-1588426200@ocmannproperties.com
SUMMARY:Island To Island Half Marathon 5K - CANCELLED
DESCRIPTION:This 13.1 mile race from Assateague Island and we will finish the race at the Inlet in Ocean City.  Start your journey from the beautiful Assateague Island\, run the scenic route 611 and finish in the historic downtown Inlet.  Your post party begins once you cross the finish line!  Join us for the most fun and entertaining post race party of the year with food\, refreshments\, live music and an award ceremony.\n \n 
URL:https://ocmannproperties.com/event/island-to-island-half-marathon-5k-cancelled/
END:VEVENT
BEGIN:VEVENT
DTSTART;TZID=America/New_York:20200502T070000
DTEND;TZID=America/New_York:20200502T133000
DTSTAMP:20260422T181428
CREATED:20200502T205845Z
LAST-MODIFIED:20200502T205845Z
UID:2094943-1588402800-1588426200@ocmannproperties.com
SUMMARY:Island To Island Half Marathon 5K - CANCELLED
DESCRIPTION:This 13.1 mile race from Assateague Island and we will finish the race at the Inlet in Ocean City.  Start your journey from the beautiful Assateague Island\, run the scenic route 611 and finish in the historic downtown Inlet.  Your post party begins once you cross the finish line!  Join us for the most fun and entertaining post race party of the year with food\, refreshments\, live music and an award ceremony.\n \n 
URL:https://ocmannproperties.com/event/island-to-island-half-marathon-5k-cancelled-2/
END:VEVENT
END:VCALENDAR