BEGIN:VCALENDAR
VERSION:2.0
PRODID:-//Ocean City MD Property Management - ECPv5.12.3//NONSGML v1.0//EN
CALSCALE:GREGORIAN
METHOD:PUBLISH
X-WR-CALNAME:Ocean City MD Property Management
X-ORIGINAL-URL:https://ocmannproperties.com
X-WR-CALDESC:Events for Ocean City MD Property Management
BEGIN:VTIMEZONE
TZID:America/New_York
BEGIN:DAYLIGHT
TZOFFSETFROM:-0500
TZOFFSETTO:-0400
TZNAME:EDT
DTSTART:20200308T070000
END:DAYLIGHT
BEGIN:STANDARD
TZOFFSETFROM:-0400
TZOFFSETTO:-0500
TZNAME:EST
DTSTART:20201101T060000
END:STANDARD
END:VTIMEZONE
BEGIN:VEVENT
DTSTART;TZID=America/New_York:20200518T153000
DTEND;TZID=America/New_York:20200518T173000
DTSTAMP:20260422T181405
CREATED:20200518T085819Z
LAST-MODIFIED:20200518T085819Z
UID:2094976-1589815800-1589823000@ocmannproperties.com
SUMMARY:Develop your Drawing Skills with David Simpson
DESCRIPTION:Lesson: Drawing Trees \n \nThis class will be unique in the fact that students will follow step by step instruction in creating a drawing of a tree(s). We will continue to address the importance of the art elements line\, shape\, form\, value\, and texture. Different shading applications will be applied to achieve various values and textures in the tree. Although this class will utilize pencil as the medium\, the content knowledge of the class is directly applicable to all painting and drawing media.\n \n\nThis is a online class taught with the zoom app\, spaces are limited to 12 students.\n$25 for members/ $30 for non-members per class\nPlease register by 05-17-2020!
URL:https://ocmannproperties.com/event/develop-your-drawing-skills-with-david-simpson-5/
END:VEVENT
BEGIN:VEVENT
DTSTART;TZID=America/New_York:20200518T153000
DTEND;TZID=America/New_York:20200518T173000
DTSTAMP:20260422T181405
CREATED:20200518T210001Z
LAST-MODIFIED:20200518T210001Z
UID:2094977-1589815800-1589823000@ocmannproperties.com
SUMMARY:Develop your Drawing Skills with David Simpson
DESCRIPTION:Lesson: Drawing Trees \n \nThis class will be unique in the fact that students will follow step by step instruction in creating a drawing of a tree(s). We will continue to address the importance of the art elements line\, shape\, form\, value\, and texture. Different shading applications will be applied to achieve various values and textures in the tree. Although this class will utilize pencil as the medium\, the content knowledge of the class is directly applicable to all painting and drawing media.\n \n\nThis is a online class taught with the zoom app\, spaces are limited to 12 students.\n$25 for members/ $30 for non-members per class\nPlease register by 05-17-2020!
URL:https://ocmannproperties.com/event/develop-your-drawing-skills-with-david-simpson-6/
END:VEVENT
END:VCALENDAR