BEGIN:VCALENDAR
VERSION:2.0
PRODID:-//Ocean City MD Property Management - ECPv5.12.3//NONSGML v1.0//EN
CALSCALE:GREGORIAN
METHOD:PUBLISH
X-WR-CALNAME:Ocean City MD Property Management
X-ORIGINAL-URL:https://ocmannproperties.com
X-WR-CALDESC:Events for Ocean City MD Property Management
BEGIN:VTIMEZONE
TZID:America/New_York
BEGIN:DAYLIGHT
TZOFFSETFROM:-0500
TZOFFSETTO:-0400
TZNAME:EDT
DTSTART:20200308T070000
END:DAYLIGHT
BEGIN:STANDARD
TZOFFSETFROM:-0400
TZOFFSETTO:-0500
TZNAME:EST
DTSTART:20201101T060000
END:STANDARD
END:VTIMEZONE
BEGIN:VEVENT
DTSTART;TZID=America/New_York:20200521T100000
DTEND;TZID=America/New_York:20200521T120000
DTSTAMP:20260422T181427
CREATED:20200521T090012Z
LAST-MODIFIED:20200521T090012Z
UID:2094982-1590055200-1590062400@ocmannproperties.com
SUMMARY:Perfect Beach Waves – Watercolor with Gerilyn Gaskill
DESCRIPTION:Watch watercolor demonstrations and try your hand as you paint along with Gerilyn! Have fun while you learn to capture the “local color” in watercolors.\nGet on Gerilyn’s email list and she will bring you up-to-date with the changing themes.\n \n\n$25 for members\, $30 for non members\nThis is an online event and spaces are limited to 15 students.\nPlease register by 05/20/2020!
URL:https://ocmannproperties.com/event/perfect-beach-waves-watercolor-with-gerilyn-gaskill/
END:VEVENT
BEGIN:VEVENT
DTSTART;TZID=America/New_York:20200521T100000
DTEND;TZID=America/New_York:20200521T120000
DTSTAMP:20260422T181427
CREATED:20200521T205848Z
LAST-MODIFIED:20200521T205848Z
UID:2094983-1590055200-1590062400@ocmannproperties.com
SUMMARY:Perfect Beach Waves – Watercolor with Gerilyn Gaskill
DESCRIPTION:Watch watercolor demonstrations and try your hand as you paint along with Gerilyn! Have fun while you learn to capture the “local color” in watercolors.\nGet on Gerilyn’s email list and she will bring you up-to-date with the changing themes.\n \n\n$25 for members\, $30 for non members\nThis is an online event and spaces are limited to 15 students.\nPlease register by 05/20/2020!
URL:https://ocmannproperties.com/event/perfect-beach-waves-watercolor-with-gerilyn-gaskill-2/
END:VEVENT
END:VCALENDAR