BEGIN:VCALENDAR
VERSION:2.0
PRODID:-//Ocean City MD Property Management - ECPv5.12.3//NONSGML v1.0//EN
CALSCALE:GREGORIAN
METHOD:PUBLISH
X-WR-CALNAME:Ocean City MD Property Management
X-ORIGINAL-URL:https://ocmannproperties.com
X-WR-CALDESC:Events for Ocean City MD Property Management
BEGIN:VTIMEZONE
TZID:America/New_York
BEGIN:DAYLIGHT
TZOFFSETFROM:-0500
TZOFFSETTO:-0400
TZNAME:EDT
DTSTART:20200308T070000
END:DAYLIGHT
BEGIN:STANDARD
TZOFFSETFROM:-0400
TZOFFSETTO:-0500
TZNAME:EST
DTSTART:20201101T060000
END:STANDARD
END:VTIMEZONE
BEGIN:VEVENT
DTSTART;TZID=America/New_York:20200530T090000
DTEND;TZID=America/New_York:20200530T180000
DTSTAMP:20260422T181406
CREATED:20200530T085918Z
LAST-MODIFIED:20200530T085918Z
UID:2095000-1590829200-1590861600@ocmannproperties.com
SUMMARY:Ocean City Sportsman Expo - CANCELLED
DESCRIPTION:The inaugural Ocean City Sportsman Expo is a regional consumer buying show that will bring together all sportsmen and sportswomen! Join them at the Roland E. Powell Convention Center for all things hunting\, fishing\, boating\, outdoors\, and more.  \n \nFor more information\, contact Josh Parente or George Makres at ocfishhunt@gmail.com \n  \nAdmission tickets may be purchased at https://www.ocmdsportsmanexpo.com/tickets
URL:https://ocmannproperties.com/event/ocean-city-sportsman-expo-cancelled/
END:VEVENT
BEGIN:VEVENT
DTSTART;TZID=America/New_York:20200530T090000
DTEND;TZID=America/New_York:20200530T180000
DTSTAMP:20260422T181406
CREATED:20200530T210007Z
LAST-MODIFIED:20200530T210007Z
UID:2095001-1590829200-1590861600@ocmannproperties.com
SUMMARY:Ocean City Sportsman Expo - CANCELLED
DESCRIPTION:The inaugural Ocean City Sportsman Expo is a regional consumer buying show that will bring together all sportsmen and sportswomen! Join them at the Roland E. Powell Convention Center for all things hunting\, fishing\, boating\, outdoors\, and more.  \n \nFor more information\, contact Josh Parente or George Makres at ocfishhunt@gmail.com \n  \nAdmission tickets may be purchased at https://www.ocmdsportsmanexpo.com/tickets
URL:https://ocmannproperties.com/event/ocean-city-sportsman-expo-cancelled-2/
END:VEVENT
END:VCALENDAR