BEGIN:VCALENDAR
VERSION:2.0
PRODID:-//Ocean City MD Property Management - ECPv5.12.3//NONSGML v1.0//EN
CALSCALE:GREGORIAN
METHOD:PUBLISH
X-WR-CALNAME:Ocean City MD Property Management
X-ORIGINAL-URL:https://ocmannproperties.com
X-WR-CALDESC:Events for Ocean City MD Property Management
BEGIN:VTIMEZONE
TZID:America/New_York
BEGIN:DAYLIGHT
TZOFFSETFROM:-0500
TZOFFSETTO:-0400
TZNAME:EDT
DTSTART:20200308T070000
END:DAYLIGHT
BEGIN:STANDARD
TZOFFSETFROM:-0400
TZOFFSETTO:-0500
TZNAME:EST
DTSTART:20201101T060000
END:STANDARD
END:VTIMEZONE
BEGIN:VEVENT
DTSTART;TZID=America/New_York:20200605T000000
DTEND;TZID=America/New_York:20200605T000000
DTSTAMP:20260422T181406
CREATED:20200605T085900Z
LAST-MODIFIED:20200605T085900Z
UID:2095012-1591315200-1591315200@ocmannproperties.com
SUMMARY:Mako Mania
DESCRIPTION:The Mako Mania is a mako shark tournament with added entry levels for bluefish and thresher shark. This tournament is traditionally the start of the tournament season in Ocean City. Mako mania was started in 1996 by Captain Steve Harman and continues to grow every year. The Mako Mania is unique in that boats of all sizes can compete with decent weather. Daily weigh-ins will be held at Bahia Marina from 3:30 pm until 7:30 pm each fishing day. Stop by\, have a beverage and something to eat at FishTales while watching the sharks come in to be weighed. \n \n 
URL:https://ocmannproperties.com/event/mako-mania-6/
END:VEVENT
BEGIN:VEVENT
DTSTART;TZID=America/New_York:20200605T000000
DTEND;TZID=America/New_York:20200605T000000
DTSTAMP:20260422T181406
CREATED:20200605T210515Z
LAST-MODIFIED:20200605T210515Z
UID:2095013-1591315200-1591315200@ocmannproperties.com
SUMMARY:Mako Mania
DESCRIPTION:The Mako Mania is a mako shark tournament with added entry levels for bluefish and thresher shark. This tournament is traditionally the start of the tournament season in Ocean City. Mako mania was started in 1996 by Captain Steve Harman and continues to grow every year. The Mako Mania is unique in that boats of all sizes can compete with decent weather. Daily weigh-ins will be held at Bahia Marina from 3:30 pm until 7:30 pm each fishing day. Stop by\, have a beverage and something to eat at FishTales while watching the sharks come in to be weighed. \n \n 
URL:https://ocmannproperties.com/event/mako-mania-7/
END:VEVENT
END:VCALENDAR