BEGIN:VCALENDAR
VERSION:2.0
PRODID:-//Ocean City MD Property Management - ECPv5.12.3//NONSGML v1.0//EN
CALSCALE:GREGORIAN
METHOD:PUBLISH
X-WR-CALNAME:Ocean City MD Property Management
X-ORIGINAL-URL:https://ocmannproperties.com
X-WR-CALDESC:Events for Ocean City MD Property Management
BEGIN:VTIMEZONE
TZID:America/New_York
BEGIN:DAYLIGHT
TZOFFSETFROM:-0500
TZOFFSETTO:-0400
TZNAME:EDT
DTSTART:20200308T070000
END:DAYLIGHT
BEGIN:STANDARD
TZOFFSETFROM:-0400
TZOFFSETTO:-0500
TZNAME:EST
DTSTART:20201101T060000
END:STANDARD
END:VTIMEZONE
BEGIN:VEVENT
DTSTART;TZID=America/New_York:20200619T000000
DTEND;TZID=America/New_York:20200619T000000
DTSTAMP:20260422T165243
CREATED:20200619T210134Z
LAST-MODIFIED:20200619T210134Z
UID:2095042-1592524800-1592524800@ocmannproperties.com
SUMMARY:Nowhere Slow at Seacrets
DESCRIPTION:Party With Nowhere Slow at Seacrets in Ocean City\, Maryland! \nNo Where Slow has reached new heights with Listen/Love\, its fourth and most ambitious studio album. Blending pop sensibility with tight harmonies and melodic songwriting\, the four-piece band has branched out in every way\, exploring new sounds.\n 
URL:https://ocmannproperties.com/event/nowhere-slow-at-seacrets/
END:VEVENT
BEGIN:VEVENT
DTSTART;TZID=America/New_York:20200619T071500
DTEND;TZID=America/New_York:20200619T075500
DTSTAMP:20260422T165243
CREATED:20200619T090516Z
LAST-MODIFIED:20200619T090516Z
UID:2095041-1592550900-1592553300@ocmannproperties.com
SUMMARY:Beach Corefit
DESCRIPTION:40 minutes of full-body training on the beach! No equipment or shoes necessary\, just your body and the beach! This workout is designed to up your cardio\, build muscle and core stability. All levels are welcome!
URL:https://ocmannproperties.com/event/beach-corefit/
END:VEVENT
END:VCALENDAR