BEGIN:VCALENDAR
VERSION:2.0
PRODID:-//Ocean City MD Property Management - ECPv5.12.3//NONSGML v1.0//EN
CALSCALE:GREGORIAN
METHOD:PUBLISH
X-WR-CALNAME:Ocean City MD Property Management
X-ORIGINAL-URL:https://ocmannproperties.com
X-WR-CALDESC:Events for Ocean City MD Property Management
BEGIN:VTIMEZONE
TZID:America/New_York
BEGIN:DAYLIGHT
TZOFFSETFROM:-0500
TZOFFSETTO:-0400
TZNAME:EDT
DTSTART:20200308T070000
END:DAYLIGHT
BEGIN:STANDARD
TZOFFSETFROM:-0400
TZOFFSETTO:-0500
TZNAME:EST
DTSTART:20201101T060000
END:STANDARD
END:VTIMEZONE
BEGIN:VEVENT
DTSTART;TZID=America/New_York:20200908T071500
DTEND;TZID=America/New_York:20200908T075000
DTSTAMP:20260422T184745
CREATED:20200908T090016Z
LAST-MODIFIED:20200908T090016Z
UID:2095204-1599549300-1599551400@ocmannproperties.com
SUMMARY:Kids Beach Yoga
DESCRIPTION:40 minute Kid yoga (ages 5-12) with certified kid yoga instructor! A playful yoga experience for kids to learn yoga poses\, breathing and relaxation exercises to cultivate a calm mind\, increased focus\, improve motors skills and just have fun!
URL:https://ocmannproperties.com/event/kids-beach-yoga-25/
END:VEVENT
BEGIN:VEVENT
DTSTART;TZID=America/New_York:20200908T071500
DTEND;TZID=America/New_York:20200908T075000
DTSTAMP:20260422T184745
CREATED:20200908T205921Z
LAST-MODIFIED:20200908T205921Z
UID:2095205-1599549300-1599551400@ocmannproperties.com
SUMMARY:Kids Beach Yoga
DESCRIPTION:40 minute Kid yoga (ages 5-12) with certified kid yoga instructor! A playful yoga experience for kids to learn yoga poses\, breathing and relaxation exercises to cultivate a calm mind\, increased focus\, improve motors skills and just have fun!
URL:https://ocmannproperties.com/event/kids-beach-yoga-26/
END:VEVENT
END:VCALENDAR