BEGIN:VCALENDAR
VERSION:2.0
PRODID:-//Ocean City MD Property Management - ECPv5.12.3//NONSGML v1.0//EN
CALSCALE:GREGORIAN
METHOD:PUBLISH
X-WR-CALNAME:Ocean City MD Property Management
X-ORIGINAL-URL:https://ocmannproperties.com
X-WR-CALDESC:Events for Ocean City MD Property Management
BEGIN:VTIMEZONE
TZID:America/New_York
BEGIN:DAYLIGHT
TZOFFSETFROM:-0500
TZOFFSETTO:-0400
TZNAME:EDT
DTSTART:20200308T070000
END:DAYLIGHT
BEGIN:STANDARD
TZOFFSETFROM:-0400
TZOFFSETTO:-0500
TZNAME:EST
DTSTART:20201101T060000
END:STANDARD
END:VTIMEZONE
BEGIN:VEVENT
DTSTART;TZID=America/New_York:20200913T120000
DTEND;TZID=America/New_York:20200913T130000
DTSTAMP:20260422T183908
CREATED:20200913T085959Z
LAST-MODIFIED:20200913T085959Z
UID:2095214-1599998400-1600002000@ocmannproperties.com
SUMMARY:Empty Bowl Project: Bowl Making
DESCRIPTION:Join the Art League of Ocean City for an Empty Bowl Project with bowl making to help them fight hunger.   \n \nHere’s how you can help; Create a bowl for a $25 donation as part of the empty bowl project\, please allow 2-3 weeks for bowls to be fired and ready for pick up. \n \n\nThe Empty Bowl Project is a unique opportunity to fight hunger locally and benefit the Diakonia Food Bank and the programs of the Art League. \n to safe your spot! \n 
URL:https://ocmannproperties.com/event/empty-bowl-project-bowl-making-3/
END:VEVENT
BEGIN:VEVENT
DTSTART;TZID=America/New_York:20200913T120000
DTEND;TZID=America/New_York:20200913T130000
DTSTAMP:20260422T183908
CREATED:20200913T210109Z
LAST-MODIFIED:20200913T210109Z
UID:2095215-1599998400-1600002000@ocmannproperties.com
SUMMARY:Empty Bowl Project: Bowl Making
DESCRIPTION:Join the Art League of Ocean City for an Empty Bowl Project with bowl making to help them fight hunger.   \n \nHere’s how you can help; Create a bowl for a $25 donation as part of the empty bowl project\, please allow 2-3 weeks for bowls to be fired and ready for pick up. \n \n\nThe Empty Bowl Project is a unique opportunity to fight hunger locally and benefit the Diakonia Food Bank and the programs of the Art League. \n to safe your spot! \n 
URL:https://ocmannproperties.com/event/empty-bowl-project-bowl-making-4/
END:VEVENT
END:VCALENDAR