BEGIN:VCALENDAR
VERSION:2.0
PRODID:-//Ocean City MD Property Management - ECPv5.12.3//NONSGML v1.0//EN
CALSCALE:GREGORIAN
METHOD:PUBLISH
X-WR-CALNAME:Ocean City MD Property Management
X-ORIGINAL-URL:https://ocmannproperties.com
X-WR-CALDESC:Events for Ocean City MD Property Management
BEGIN:VTIMEZONE
TZID:America/New_York
BEGIN:DAYLIGHT
TZOFFSETFROM:-0500
TZOFFSETTO:-0400
TZNAME:EDT
DTSTART:20200308T070000
END:DAYLIGHT
BEGIN:STANDARD
TZOFFSETFROM:-0400
TZOFFSETTO:-0500
TZNAME:EST
DTSTART:20201101T060000
END:STANDARD
END:VTIMEZONE
BEGIN:VEVENT
DTSTART;TZID=America/New_York:20200919T100000
DTEND;TZID=America/New_York:20200919T123000
DTSTAMP:20260422T184753
CREATED:20200919T090006Z
LAST-MODIFIED:20200919T090006Z
UID:2095226-1600509600-1600518600@ocmannproperties.com
SUMMARY:Create Your Own up to 12″ Glass Plate with Print Paper and Paint
DESCRIPTION:Inspired by other art or a great moment in life you will construct a square 12″ plate (with slightly curved up edges in it’s final form) with either print paper & paint or a great image. You can built in different level what gives it a 3-D look .\nIf you want to have a photo on your plate\, this needs to be send to Pete at least two days before the class to prepare the images for class.\nPlates can be displayed\, or used as serving plates for food\, etc.\n \nFor an additional fee your items can be shipped. Please ask instructor for shipping fee\, which needs to be paid before anything will be shipped!\n \nNo experience necessary. All levels\, and children with registered adult are welcome.\n\n\n\n \n\nCost: $90 for members\, $105 for non members\,\nAll material included!\nPlease register by 09/18/2020!\n\n \n 
URL:https://ocmannproperties.com/event/create-your-own-up-to-12%e2%80%b3-glass-plate-with-print-paper-and-paint/
END:VEVENT
BEGIN:VEVENT
DTSTART;TZID=America/New_York:20200919T100000
DTEND;TZID=America/New_York:20200919T123000
DTSTAMP:20260422T184753
CREATED:20200919T205956Z
LAST-MODIFIED:20200919T205956Z
UID:2095227-1600509600-1600518600@ocmannproperties.com
SUMMARY:Create Your Own up to 12″ Glass Plate with Print Paper and Paint
DESCRIPTION:Inspired by other art or a great moment in life you will construct a square 12″ plate (with slightly curved up edges in it’s final form) with either print paper & paint or a great image. You can built in different level what gives it a 3-D look .\nIf you want to have a photo on your plate\, this needs to be send to Pete at least two days before the class to prepare the images for class.\nPlates can be displayed\, or used as serving plates for food\, etc.\n \nFor an additional fee your items can be shipped. Please ask instructor for shipping fee\, which needs to be paid before anything will be shipped!\n \nNo experience necessary. All levels\, and children with registered adult are welcome.\n\n\n\n \n\nCost: $90 for members\, $105 for non members\,\nAll material included!\nPlease register by 09/18/2020!\n\n \n 
URL:https://ocmannproperties.com/event/create-your-own-up-to-12%e2%80%b3-glass-plate-with-print-paper-and-paint-2/
END:VEVENT
END:VCALENDAR