BEGIN:VCALENDAR
VERSION:2.0
PRODID:-//Ocean City MD Property Management - ECPv5.12.3//NONSGML v1.0//EN
CALSCALE:GREGORIAN
METHOD:PUBLISH
X-WR-CALNAME:Ocean City MD Property Management
X-ORIGINAL-URL:https://ocmannproperties.com
X-WR-CALDESC:Events for Ocean City MD Property Management
BEGIN:VTIMEZONE
TZID:America/New_York
BEGIN:DAYLIGHT
TZOFFSETFROM:-0500
TZOFFSETTO:-0400
TZNAME:EDT
DTSTART:20200308T070000
END:DAYLIGHT
BEGIN:STANDARD
TZOFFSETFROM:-0400
TZOFFSETTO:-0500
TZNAME:EST
DTSTART:20201101T060000
END:STANDARD
END:VTIMEZONE
BEGIN:VEVENT
DTSTART;TZID=America/New_York:20201112T160000
DTEND;TZID=America/New_York:20201112T200000
DTSTAMP:20260422T215613
CREATED:20201112T205842Z
LAST-MODIFIED:20201112T205842Z
UID:2095336-1605196800-1605211200@ocmannproperties.com
SUMMARY:Lauren Glick at Skye Bar
DESCRIPTION:Lauren Glick can deliver just about any style of music\, but she is known as the “Janis Joplin” of the beach. Lauren sings from the heart and soul\, giving it all she’s got. On the other side of the spectrum\, her original music is influenced by Tori Amos\, Kate Bush\, Sara McLaughlin\, and Amy Mann.\n 
URL:https://ocmannproperties.com/event/lauren-glick-at-skye-bar/
END:VEVENT
END:VCALENDAR