BEGIN:VCALENDAR
VERSION:2.0
PRODID:-//Ocean City MD Property Management - ECPv5.12.3//NONSGML v1.0//EN
CALSCALE:GREGORIAN
METHOD:PUBLISH
X-WR-CALNAME:Ocean City MD Property Management
X-ORIGINAL-URL:https://ocmannproperties.com
X-WR-CALDESC:Events for Ocean City MD Property Management
BEGIN:VTIMEZONE
TZID:America/New_York
BEGIN:DAYLIGHT
TZOFFSETFROM:-0500
TZOFFSETTO:-0400
TZNAME:EDT
DTSTART:20200308T070000
END:DAYLIGHT
BEGIN:STANDARD
TZOFFSETFROM:-0400
TZOFFSETTO:-0500
TZNAME:EST
DTSTART:20201101T060000
END:STANDARD
END:VTIMEZONE
BEGIN:VEVENT
DTSTART;TZID=America/New_York:20201125T170000
DTEND;TZID=America/New_York:20201125T210000
DTSTAMP:20260422T181427
CREATED:20201125T090002Z
LAST-MODIFIED:20201125T090002Z
UID:2095368-1606323600-1606338000@ocmannproperties.com
SUMMARY:Dale Teat at Harpoon Hanna's
DESCRIPTION:With his very own music store under his belt\, Dale Teat is a man of many trades. Treat yourself to an evening of live music from Mr. Teat. You won’t want to miss this!
URL:https://ocmannproperties.com/event/dale-teat-at-harpoon-hannas-6/
END:VEVENT
BEGIN:VEVENT
DTSTART;TZID=America/New_York:20201125T170000
DTEND;TZID=America/New_York:20201125T210000
DTSTAMP:20260422T181427
CREATED:20201125T205855Z
LAST-MODIFIED:20201125T205855Z
UID:2095369-1606323600-1606338000@ocmannproperties.com
SUMMARY:Dale Teat at Harpoon Hanna's
DESCRIPTION:With his very own music store under his belt\, Dale Teat is a man of many trades. Treat yourself to an evening of live music from Mr. Teat. You won’t want to miss this!
URL:https://ocmannproperties.com/event/dale-teat-at-harpoon-hannas-7/
END:VEVENT
END:VCALENDAR