BEGIN:VCALENDAR
VERSION:2.0
PRODID:-//Ocean City MD Property Management - ECPv5.12.3//NONSGML v1.0//EN
CALSCALE:GREGORIAN
METHOD:PUBLISH
X-WR-CALNAME:Ocean City MD Property Management
X-ORIGINAL-URL:https://ocmannproperties.com
X-WR-CALDESC:Events for Ocean City MD Property Management
BEGIN:VTIMEZONE
TZID:America/New_York
BEGIN:DAYLIGHT
TZOFFSETFROM:-0500
TZOFFSETTO:-0400
TZNAME:EDT
DTSTART:20200308T070000
END:DAYLIGHT
BEGIN:STANDARD
TZOFFSETFROM:-0400
TZOFFSETTO:-0500
TZNAME:EST
DTSTART:20201101T060000
END:STANDARD
END:VTIMEZONE
BEGIN:VEVENT
DTSTART;TZID=America/New_York:20201204T160000
DTEND;TZID=America/New_York:20201204T200000
DTSTAMP:20260422T220722
CREATED:20201204T085947Z
LAST-MODIFIED:20201204T085947Z
UID:2095386-1607097600-1607112000@ocmannproperties.com
SUMMARY:Test Kitchen
DESCRIPTION:Test Kitchen is a sometimes-acoustic-duo\, sometimes-trio hailing from Salisbury\, MD.\n \nArrive a little early and enjoy Happy Hour from 3 to 6pm! Happy Hour from 3-6pm\n \nRaw Bar Happy Hour Specials:\n$1 Oysters\n1 1/4 LB. Lobster $20\n \nHappy Hour Drink Specials:\n$5.50 Smirnoff Crushes • $3.75 Rails\n$1 Off Drafts • $5 House Wines\n 
URL:https://ocmannproperties.com/event/test-kitchen-4/
END:VEVENT
BEGIN:VEVENT
DTSTART;TZID=America/New_York:20201204T160000
DTEND;TZID=America/New_York:20201204T200000
DTSTAMP:20260422T220722
CREATED:20201204T205849Z
LAST-MODIFIED:20201204T205849Z
UID:2095387-1607097600-1607112000@ocmannproperties.com
SUMMARY:Test Kitchen
DESCRIPTION:Test Kitchen is a sometimes-acoustic-duo\, sometimes-trio hailing from Salisbury\, MD.\n \nArrive a little early and enjoy Happy Hour from 3 to 6pm! Happy Hour from 3-6pm\n \nRaw Bar Happy Hour Specials:\n$1 Oysters\n1 1/4 LB. Lobster $20\n \nHappy Hour Drink Specials:\n$5.50 Smirnoff Crushes • $3.75 Rails\n$1 Off Drafts • $5 House Wines\n 
URL:https://ocmannproperties.com/event/test-kitchen-5/
END:VEVENT
BEGIN:VEVENT
DTSTART;TZID=America/New_York:20201204T210000
DTEND;TZID=America/New_York:20201204T210000
DTSTAMP:20260422T220722
CREATED:20201203T085818Z
LAST-MODIFIED:20201203T085818Z
UID:2095384-1607115600-1607115600@ocmannproperties.com
SUMMARY:Full Circle Band at Harpoon Hanna's
DESCRIPTION:Head over to Harpoon Hannah’s in Fenwick Island\, DE for live music – featuring the talented band Full Circle. Get ready to dance and jam out with your friends while enjoy drink and delicious food specials. 
URL:https://ocmannproperties.com/event/full-circle-band-at-harpoon-hannas/
END:VEVENT
END:VCALENDAR