BEGIN:VCALENDAR
VERSION:2.0
PRODID:-//Ocean City MD Property Management - ECPv5.12.3//NONSGML v1.0//EN
CALSCALE:GREGORIAN
METHOD:PUBLISH
X-WR-CALNAME:Ocean City MD Property Management
X-ORIGINAL-URL:https://ocmannproperties.com
X-WR-CALDESC:Events for Ocean City MD Property Management
BEGIN:VTIMEZONE
TZID:America/New_York
BEGIN:DAYLIGHT
TZOFFSETFROM:-0500
TZOFFSETTO:-0400
TZNAME:EDT
DTSTART:20210314T070000
END:DAYLIGHT
BEGIN:STANDARD
TZOFFSETFROM:-0400
TZOFFSETTO:-0500
TZNAME:EST
DTSTART:20211107T060000
END:STANDARD
END:VTIMEZONE
BEGIN:VEVENT
DTSTART;TZID=America/New_York:20210113T170000
DTEND;TZID=America/New_York:20210113T210000
DTSTAMP:20260423T013540
CREATED:20210113T205845Z
LAST-MODIFIED:20210113T205845Z
UID:2095467-1610557200-1610571600@ocmannproperties.com
SUMMARY:Dale Teat at Harpoon Hanna's
DESCRIPTION:With his very own music store under his belt\, Dale Teat is a man of many trades. Treat yourself to an evening of live music from Mr. Teat. You won’t want to miss this!
URL:https://ocmannproperties.com/event/dale-teat-at-harpoon-hannas-22/
END:VEVENT
BEGIN:VEVENT
DTSTART;TZID=America/New_York:20210113T183000
DTEND;TZID=America/New_York:20210113T200000
DTSTAMP:20260423T013540
CREATED:20210112T085937Z
LAST-MODIFIED:20210112T085937Z
UID:2095464-1610562600-1610568000@ocmannproperties.com
SUMMARY:Trivia at Alley Oops
DESCRIPTION:If you have been looking for a fun and safe activity for you and your friends\, you have found it! Let’s Do Trivia is coming to Alley Oops Uptown starting September 9th so get your thinking caps ready! \n \nRegistration at  6:30 pm; Games Start at 7:00 pm\n 
URL:https://ocmannproperties.com/event/trivia-at-alley-oops-25/
END:VEVENT
BEGIN:VEVENT
DTSTART;TZID=America/New_York:20210113T183000
DTEND;TZID=America/New_York:20210113T200000
DTSTAMP:20260423T013540
CREATED:20210112T210306Z
LAST-MODIFIED:20210112T210306Z
UID:2095465-1610562600-1610568000@ocmannproperties.com
SUMMARY:Trivia at Alley Oops
DESCRIPTION:If you have been looking for a fun and safe activity for you and your friends\, you have found it! Let’s Do Trivia is coming to Alley Oops Uptown starting September 9th so get your thinking caps ready! \n \nRegistration at  6:30 pm; Games Start at 7:00 pm\n 
URL:https://ocmannproperties.com/event/trivia-at-alley-oops-26/
END:VEVENT
BEGIN:VEVENT
DTSTART;TZID=America/New_York:20210113T183000
DTEND;TZID=America/New_York:20210113T200000
DTSTAMP:20260423T013540
CREATED:20210113T085835Z
LAST-MODIFIED:20210113T085835Z
UID:2095466-1610562600-1610568000@ocmannproperties.com
SUMMARY:Trivia at Alley Oops
DESCRIPTION:If you have been looking for a fun and safe activity for you and your friends\, you have found it! Let’s Do Trivia is coming to Alley Oops Uptown starting September 9th so get your thinking caps ready! \n \nRegistration at  6:30 pm; Games Start at 7:00 pm\n 
URL:https://ocmannproperties.com/event/trivia-at-alley-oops-27/
END:VEVENT
END:VCALENDAR