BEGIN:VCALENDAR
VERSION:2.0
PRODID:-//Ocean City MD Property Management - ECPv5.12.3//NONSGML v1.0//EN
CALSCALE:GREGORIAN
METHOD:PUBLISH
X-WR-CALNAME:Ocean City MD Property Management
X-ORIGINAL-URL:https://ocmannproperties.com
X-WR-CALDESC:Events for Ocean City MD Property Management
BEGIN:VTIMEZONE
TZID:America/New_York
BEGIN:DAYLIGHT
TZOFFSETFROM:-0500
TZOFFSETTO:-0400
TZNAME:EDT
DTSTART:20210314T070000
END:DAYLIGHT
BEGIN:STANDARD
TZOFFSETFROM:-0400
TZOFFSETTO:-0500
TZNAME:EST
DTSTART:20211107T060000
END:STANDARD
END:VTIMEZONE
BEGIN:VEVENT
DTSTART;TZID=America/New_York:20210122T160000
DTEND;TZID=America/New_York:20210122T200000
DTSTAMP:20260423T013403
CREATED:20210122T085837Z
LAST-MODIFIED:20210122T085837Z
UID:2095490-1611331200-1611345600@ocmannproperties.com
SUMMARY:Monkee Paw at Skye Bar
DESCRIPTION:Monkee Paw will play at Skye Bar and Grille in Ocean City.  Monkee Paw’s music ranges from quartet arrangements\, and has spent almost a decade performing in Ocean City. Their music spans a wide variety of genres\, with a strong focus on vocal harmony and musicianship.\n \nMake sure you come for Happy Hour at Skye Bar from 3-6pm! Raw bar Happy Hour specials include $1 oysters and 1 1/4lb. lobster for $20. Drink specials include $5.00 Smirnoff Orange Crushes\, $3.75 Rails\, $1 OFF Drafts\, and $5 House Wines.
URL:https://ocmannproperties.com/event/monkee-paw-at-skye-bar-3/
END:VEVENT
BEGIN:VEVENT
DTSTART;TZID=America/New_York:20210122T160000
DTEND;TZID=America/New_York:20210122T200000
DTSTAMP:20260423T013403
CREATED:20210122T205935Z
LAST-MODIFIED:20210122T205935Z
UID:2095491-1611331200-1611345600@ocmannproperties.com
SUMMARY:Monkee Paw at Skye Bar
DESCRIPTION:Monkee Paw will play at Skye Bar and Grille in Ocean City.  Monkee Paw’s music ranges from quartet arrangements\, and has spent almost a decade performing in Ocean City. Their music spans a wide variety of genres\, with a strong focus on vocal harmony and musicianship.\n \nMake sure you come for Happy Hour at Skye Bar from 3-6pm! Raw bar Happy Hour specials include $1 oysters and 1 1/4lb. lobster for $20. Drink specials include $5.00 Smirnoff Orange Crushes\, $3.75 Rails\, $1 OFF Drafts\, and $5 House Wines.
URL:https://ocmannproperties.com/event/monkee-paw-at-skye-bar-4/
END:VEVENT
END:VCALENDAR