BEGIN:VCALENDAR
VERSION:2.0
PRODID:-//Ocean City MD Property Management - ECPv5.12.3//NONSGML v1.0//EN
CALSCALE:GREGORIAN
METHOD:PUBLISH
X-WR-CALNAME:Ocean City MD Property Management
X-ORIGINAL-URL:https://ocmannproperties.com
X-WR-CALDESC:Events for Ocean City MD Property Management
BEGIN:VTIMEZONE
TZID:America/New_York
BEGIN:DAYLIGHT
TZOFFSETFROM:-0500
TZOFFSETTO:-0400
TZNAME:EDT
DTSTART:20210314T070000
END:DAYLIGHT
BEGIN:STANDARD
TZOFFSETFROM:-0400
TZOFFSETTO:-0500
TZNAME:EST
DTSTART:20211107T060000
END:STANDARD
END:VTIMEZONE
BEGIN:VEVENT
DTSTART;TZID=America/New_York:20210205T170000
DTEND;TZID=America/New_York:20210205T210000
DTSTAMP:20260423T033240
CREATED:20210205T085901Z
LAST-MODIFIED:20210205T085901Z
UID:2095757-1612544400-1612558800@ocmannproperties.com
SUMMARY:Nowhere Slow Duo
DESCRIPTION:Party With Nowhere Slow at Seacrets in Ocean City\, Maryland! \n\nNo Where Slow has reached new heights with Listen/Love\, its fourth and most ambitious studio album. Blending pop sensibility with tight harmonies and melodic songwriting\, the four-piece band has branched out in every way\, exploring new sounds.\n 
URL:https://ocmannproperties.com/event/nowhere-slow-duo-2/
END:VEVENT
BEGIN:VEVENT
DTSTART;TZID=America/New_York:20210205T170000
DTEND;TZID=America/New_York:20210205T210000
DTSTAMP:20260423T033240
CREATED:20210205T210157Z
LAST-MODIFIED:20210205T210157Z
UID:2095758-1612544400-1612558800@ocmannproperties.com
SUMMARY:Nowhere Slow Duo
DESCRIPTION:Party With Nowhere Slow at Seacrets in Ocean City\, Maryland! \n\nNo Where Slow has reached new heights with Listen/Love\, its fourth and most ambitious studio album. Blending pop sensibility with tight harmonies and melodic songwriting\, the four-piece band has branched out in every way\, exploring new sounds.\n 
URL:https://ocmannproperties.com/event/nowhere-slow-duo-3/
END:VEVENT
END:VCALENDAR