BEGIN:VCALENDAR
VERSION:2.0
PRODID:-//Ocean City MD Property Management - ECPv5.12.3//NONSGML v1.0//EN
CALSCALE:GREGORIAN
METHOD:PUBLISH
X-WR-CALNAME:Ocean City MD Property Management
X-ORIGINAL-URL:https://ocmannproperties.com
X-WR-CALDESC:Events for Ocean City MD Property Management
BEGIN:VTIMEZONE
TZID:America/New_York
BEGIN:DAYLIGHT
TZOFFSETFROM:-0500
TZOFFSETTO:-0400
TZNAME:EDT
DTSTART:20210314T070000
END:DAYLIGHT
BEGIN:STANDARD
TZOFFSETFROM:-0400
TZOFFSETTO:-0500
TZNAME:EST
DTSTART:20211107T060000
END:STANDARD
END:VTIMEZONE
BEGIN:VEVENT
DTSTART;TZID=America/New_York:20210213T170000
DTEND;TZID=America/New_York:20210213T210000
DTSTAMP:20260423T033308
CREATED:20210213T085840Z
LAST-MODIFIED:20210213T085840Z
UID:2095777-1613235600-1613250000@ocmannproperties.com
SUMMARY:Dave Sherman Band at Harpoon Hanna's
DESCRIPTION:Dave Sherman writes and performs original material but his specialty is Baby Boomer music. Primarily influenced by The Beatles\, his musical tastes range from 60’s R&B to Jazz Rock. He covers many Classic Rock pieces from the ’60s\, ’70s\, ’80s with a little modern country thrown in and of course some Jimmy Buffett.
URL:https://ocmannproperties.com/event/dave-sherman-band-at-harpoon-hannas-5/
END:VEVENT
BEGIN:VEVENT
DTSTART;TZID=America/New_York:20210213T170000
DTEND;TZID=America/New_York:20210213T210000
DTSTAMP:20260423T033308
CREATED:20210213T205923Z
LAST-MODIFIED:20210213T205923Z
UID:2095778-1613235600-1613250000@ocmannproperties.com
SUMMARY:Dave Sherman Band at Harpoon Hanna's
DESCRIPTION:Dave Sherman writes and performs original material but his specialty is Baby Boomer music. Primarily influenced by The Beatles\, his musical tastes range from 60’s R&B to Jazz Rock. He covers many Classic Rock pieces from the ’60s\, ’70s\, ’80s with a little modern country thrown in and of course some Jimmy Buffett.
URL:https://ocmannproperties.com/event/dave-sherman-band-at-harpoon-hannas-6/
END:VEVENT
END:VCALENDAR