BEGIN:VCALENDAR
VERSION:2.0
PRODID:-//Ocean City MD Property Management - ECPv5.12.3//NONSGML v1.0//EN
CALSCALE:GREGORIAN
METHOD:PUBLISH
X-WR-CALNAME:Ocean City MD Property Management
X-ORIGINAL-URL:https://ocmannproperties.com
X-WR-CALDESC:Events for Ocean City MD Property Management
BEGIN:VTIMEZONE
TZID:America/New_York
BEGIN:DAYLIGHT
TZOFFSETFROM:-0500
TZOFFSETTO:-0400
TZNAME:EDT
DTSTART:20210314T070000
END:DAYLIGHT
BEGIN:STANDARD
TZOFFSETFROM:-0400
TZOFFSETTO:-0500
TZNAME:EST
DTSTART:20211107T060000
END:STANDARD
END:VTIMEZONE
BEGIN:VEVENT
DTSTART;TZID=America/New_York:20210311T170000
DTEND;TZID=America/New_York:20210311T210000
DTSTAMP:20260423T053825
CREATED:20210309T085833Z
LAST-MODIFIED:20210309T085833Z
UID:2096341-1615482000-1615496400@ocmannproperties.com
SUMMARY:Full Circle Duo
DESCRIPTION:Come see rock group Full Circle Duo live at Seacrets in Ocean City\, MD! Full Circle Duo plays classic to current rock with influences from Fleetwood Mac\, Sheryl Crowe\, Journey\, and Rob Thomas. Check them out at the Main Bar and call up your friends to meet you there. 
URL:https://ocmannproperties.com/event/full-circle-duo-15/
END:VEVENT
BEGIN:VEVENT
DTSTART;TZID=America/New_York:20210311T170000
DTEND;TZID=America/New_York:20210311T210000
DTSTAMP:20260423T053825
CREATED:20210309T205821Z
LAST-MODIFIED:20210309T205821Z
UID:2096342-1615482000-1615496400@ocmannproperties.com
SUMMARY:Full Circle Duo
DESCRIPTION:Come see rock group Full Circle Duo live at Seacrets in Ocean City\, MD! Full Circle Duo plays classic to current rock with influences from Fleetwood Mac\, Sheryl Crowe\, Journey\, and Rob Thomas. Check them out at the Main Bar and call up your friends to meet you there. 
URL:https://ocmannproperties.com/event/full-circle-duo-16/
END:VEVENT
BEGIN:VEVENT
DTSTART;TZID=America/New_York:20210311T170000
DTEND;TZID=America/New_York:20210311T210000
DTSTAMP:20260423T053825
CREATED:20210310T090245Z
LAST-MODIFIED:20210310T090245Z
UID:2096343-1615482000-1615496400@ocmannproperties.com
SUMMARY:Full Circle Duo
DESCRIPTION:Come see rock group Full Circle Duo live at Seacrets in Ocean City\, MD! Full Circle Duo plays classic to current rock with influences from Fleetwood Mac\, Sheryl Crowe\, Journey\, and Rob Thomas. Check them out at the Main Bar and call up your friends to meet you there. 
URL:https://ocmannproperties.com/event/full-circle-duo-18/
END:VEVENT
BEGIN:VEVENT
DTSTART;TZID=America/New_York:20210311T170000
DTEND;TZID=America/New_York:20210311T210000
DTSTAMP:20260423T053825
CREATED:20210311T085926Z
LAST-MODIFIED:20210311T085926Z
UID:2096345-1615482000-1615496400@ocmannproperties.com
SUMMARY:Full Circle Duo
DESCRIPTION:Come see rock group Full Circle Duo live at Seacrets in Ocean City\, MD! Full Circle Duo plays classic to current rock with influences from Fleetwood Mac\, Sheryl Crowe\, Journey\, and Rob Thomas. Check them out at the Main Bar and call up your friends to meet you there. 
URL:https://ocmannproperties.com/event/full-circle-duo-19/
END:VEVENT
BEGIN:VEVENT
DTSTART;TZID=America/New_York:20210311T170000
DTEND;TZID=America/New_York:20210311T210000
DTSTAMP:20260423T053825
CREATED:20210311T205850Z
LAST-MODIFIED:20210311T205850Z
UID:2096346-1615482000-1615496400@ocmannproperties.com
SUMMARY:Full Circle Duo
DESCRIPTION:Come see rock group Full Circle Duo live at Seacrets in Ocean City\, MD! Full Circle Duo plays classic to current rock with influences from Fleetwood Mac\, Sheryl Crowe\, Journey\, and Rob Thomas. Check them out at the Main Bar and call up your friends to meet you there. 
URL:https://ocmannproperties.com/event/full-circle-duo-20/
END:VEVENT
END:VCALENDAR