BEGIN:VCALENDAR
VERSION:2.0
PRODID:-//Ocean City MD Property Management - ECPv5.12.3//NONSGML v1.0//EN
CALSCALE:GREGORIAN
METHOD:PUBLISH
X-WR-CALNAME:Ocean City MD Property Management
X-ORIGINAL-URL:https://ocmannproperties.com
X-WR-CALDESC:Events for Ocean City MD Property Management
BEGIN:VTIMEZONE
TZID:America/New_York
BEGIN:DAYLIGHT
TZOFFSETFROM:-0500
TZOFFSETTO:-0400
TZNAME:EDT
DTSTART:20210314T070000
END:DAYLIGHT
BEGIN:STANDARD
TZOFFSETFROM:-0400
TZOFFSETTO:-0500
TZNAME:EST
DTSTART:20211107T060000
END:STANDARD
END:VTIMEZONE
BEGIN:VEVENT
DTSTART;TZID=America/New_York:20210324T170000
DTEND;TZID=America/New_York:20210324T210000
DTSTAMP:20260423T053825
CREATED:20210323T090152Z
LAST-MODIFIED:20210323T090152Z
UID:2096371-1616605200-1616619600@ocmannproperties.com
SUMMARY:Dale Teat at Harpoon Hanna's
DESCRIPTION:With his very own music store under his belt\, Dale Teat is a man of many trades. Treat yourself to an evening of live music from Mr. Teat. You won’t want to miss this!
URL:https://ocmannproperties.com/event/dale-teat-at-harpoon-hannas-39/
END:VEVENT
BEGIN:VEVENT
DTSTART;TZID=America/New_York:20210324T170000
DTEND;TZID=America/New_York:20210324T210000
DTSTAMP:20260423T053825
CREATED:20210323T210012Z
LAST-MODIFIED:20210323T210012Z
UID:2096372-1616605200-1616619600@ocmannproperties.com
SUMMARY:Dale Teat at Harpoon Hanna's
DESCRIPTION:With his very own music store under his belt\, Dale Teat is a man of many trades. Treat yourself to an evening of live music from Mr. Teat. You won’t want to miss this!
URL:https://ocmannproperties.com/event/dale-teat-at-harpoon-hannas-40/
END:VEVENT
BEGIN:VEVENT
DTSTART;TZID=America/New_York:20210324T170000
DTEND;TZID=America/New_York:20210324T210000
DTSTAMP:20260423T053825
CREATED:20210324T090225Z
LAST-MODIFIED:20210324T090225Z
UID:2096373-1616605200-1616619600@ocmannproperties.com
SUMMARY:Dale Teat at Harpoon Hanna's
DESCRIPTION:With his very own music store under his belt\, Dale Teat is a man of many trades. Treat yourself to an evening of live music from Mr. Teat. You won’t want to miss this!
URL:https://ocmannproperties.com/event/dale-teat-at-harpoon-hannas-41/
END:VEVENT
BEGIN:VEVENT
DTSTART;TZID=America/New_York:20210324T170000
DTEND;TZID=America/New_York:20210324T210000
DTSTAMP:20260423T053825
CREATED:20210324T205947Z
LAST-MODIFIED:20210324T205947Z
UID:2096374-1616605200-1616619600@ocmannproperties.com
SUMMARY:Dale Teat at Harpoon Hanna's
DESCRIPTION:With his very own music store under his belt\, Dale Teat is a man of many trades. Treat yourself to an evening of live music from Mr. Teat. You won’t want to miss this!
URL:https://ocmannproperties.com/event/dale-teat-at-harpoon-hannas-42/
END:VEVENT
BEGIN:VEVENT
DTSTART;TZID=America/New_York:20210324T183000
DTEND;TZID=America/New_York:20210324T203000
DTSTAMP:20260423T053825
CREATED:20210225T205922Z
LAST-MODIFIED:20210225T205922Z
UID:2096317-1616610600-1616617800@ocmannproperties.com
SUMMARY:Wine Glass Sip & Paint Night at Alley Oops Uptown
DESCRIPTION:Sip & Eat while you paint your very own PAIR of glasses at Alley Oops Uptown! All materials\, musical entertainment by DJ Jamie\, & step-by-step instruction are included! This is a family friendly event\, so the kids can paint too\, or they can play while you paint!  \n\n\nPRE-REGISTRATION/PAYMENT IS REQUIRED & SEATING IS LIMITED TO ALLOW SOCIAL DISTANCING! WE CAN NOT ACCEPT WALK-IN’S. THANK YOU FOR UNDERSTANDING! \n\nRegistration Link: https://www.tcstudios.org/events/alleyoopsuptown32421 
URL:https://ocmannproperties.com/event/wine-glass-sip-paint-night-at-alley-oops-uptown/
END:VEVENT
BEGIN:VEVENT
DTSTART;TZID=America/New_York:20210324T183000
DTEND;TZID=America/New_York:20210324T203000
DTSTAMP:20260423T053825
CREATED:20210226T085936Z
LAST-MODIFIED:20210226T085936Z
UID:2096318-1616610600-1616617800@ocmannproperties.com
SUMMARY:Wine Glass Sip & Paint Night at Alley Oops Uptown
DESCRIPTION:Sip & Eat while you paint your very own PAIR of glasses at Alley Oops Uptown! All materials\, musical entertainment by DJ Jamie\, & step-by-step instruction are included! This is a family friendly event\, so the kids can paint too\, or they can play while you paint!  \n\n\nPRE-REGISTRATION/PAYMENT IS REQUIRED & SEATING IS LIMITED TO ALLOW SOCIAL DISTANCING! WE CAN NOT ACCEPT WALK-IN’S. THANK YOU FOR UNDERSTANDING! \n\nRegistration Link: https://www.tcstudios.org/events/alleyoopsuptown32421 
URL:https://ocmannproperties.com/event/wine-glass-sip-paint-night-at-alley-oops-uptown-2/
END:VEVENT
END:VCALENDAR